BEGIN:VCALENDAR
VERSION:2.0
PRODID:-//liebevoll.jetzt - ECPv6.15.20//NONSGML v1.0//EN
CALSCALE:GREGORIAN
METHOD:PUBLISH
X-WR-CALNAME:liebevoll.jetzt
X-ORIGINAL-URL:https://liebevoll.jetzt
X-WR-CALDESC:Veranstaltungen für liebevoll.jetzt
REFRESH-INTERVAL;VALUE=DURATION:PT1H
X-Robots-Tag:noindex
X-PUBLISHED-TTL:PT1H
BEGIN:VTIMEZONE
TZID:Europe/Berlin
BEGIN:DAYLIGHT
TZOFFSETFROM:+0100
TZOFFSETTO:+0200
TZNAME:CEST
DTSTART:20250330T010000
END:DAYLIGHT
BEGIN:STANDARD
TZOFFSETFROM:+0200
TZOFFSETTO:+0100
TZNAME:CET
DTSTART:20251026T010000
END:STANDARD
BEGIN:DAYLIGHT
TZOFFSETFROM:+0100
TZOFFSETTO:+0200
TZNAME:CEST
DTSTART:20260329T010000
END:DAYLIGHT
BEGIN:STANDARD
TZOFFSETFROM:+0200
TZOFFSETTO:+0100
TZNAME:CET
DTSTART:20261025T010000
END:STANDARD
BEGIN:DAYLIGHT
TZOFFSETFROM:+0100
TZOFFSETTO:+0200
TZNAME:CEST
DTSTART:20270328T010000
END:DAYLIGHT
BEGIN:STANDARD
TZOFFSETFROM:+0200
TZOFFSETTO:+0100
TZNAME:CET
DTSTART:20271031T010000
END:STANDARD
END:VTIMEZONE
BEGIN:VEVENT
DTSTART;TZID=Europe/Berlin:20260430T190000
DTEND;TZID=Europe/Berlin:20260430T200000
DTSTAMP:20260424T011558
CREATED:20260420T075648Z
LAST-MODIFIED:20260420T075648Z
UID:10005606-1777575600-1777579200@liebevoll.jetzt
SUMMARY:Schauen\, denken\, erzählen: Mit Kunst Kommunikation und Perspektivwechsel fördern
DESCRIPTION:Kunst kann mehr als inspirieren. Sie kann verändern\, wie wir wahrnehmen\, denken und miteinander kommunizieren. \nIn diesem interaktiven Online Workshop entdeckst du\, wie Kunstbetrachtung gezielt eingesetzt werden kann\, um Kommunikation\, Perspektivenwechsel und gemeinsames Denken zu fördern. \nDu lernst eine kunstbasierte Methode kennen\, die weltweit in Bildung\, Führung und Teamarbeit eingesetzt wird\, um Achtsamkeit\, kritisches Denken und den Dialog zu stärken und neue Sichtweisen zu eröffnen. Im Zentrum steht der moderierte Austausch. Gemeinsam betrachten wir ein Kunstwerk und entwickeln daraus ein Gespräch\, das von Neugier\, Offenheit und aktiver Beteiligung lebt. \nDabei geht es nicht um Vorwissen oder richtige Antworten. Stattdessen üben wir\, genau hinzusehen\, Beobachtungen klar zu formulieren und unterschiedliche Perspektiven wertzuschätzen. So entstehen Schritt für Schritt tiefere Einsichten und ein Raum\, in dem Zuhören\, Verstehen und gemeinsames Weiterdenken im Mittelpunkt stehen. \nDieser Workshop stärkt zentrale Kompetenzen wie Wahrnehmung\, Kommunikationsfähigkeit\, kritisches Denken und Empathie\, Fähigkeiten\, die in einer komplexen Welt immer wichtiger werden. \nMelde dich hier gerne zum Workshop an. Den Zoom-Link erhältst du dann direkt per E-Mail. \n \n  \nWir von liebevoll.jetzt bedanken uns bei Ágota für dieses liebevolle Geschenk und ihr ehrenamtliches Engagement. \n		\n					\n						\n					\n			\n						\n				\n									  \n*****Du hast diese Veranstaltung als Teilnehmer(in) besucht und möchtest ein Feedback geben? Nutze dafür gern den untenstehenden Fragebogen. Herzlichen Dank! 								\n				\n				\n				\n									\n					\n						\n									Zum Feedback-Fragebogen
URL:https://liebevoll.jetzt/veranstaltung/schauen-denken-erzaehlen-mit-kunst-kommunikation-und-perspektivwechsel-foerdern/2026-04-30/
CATEGORIES:Austausch und Begegnung,Online Treffen
ATTACH;FMTTYPE=image/jpeg:https://liebevoll.jetzt/wp-content/uploads/2026/04/DSC_0063.jpeg
ORGANIZER;CN="%C3%81gota V. Szendrei":MAILTO:office@szen3.com
END:VEVENT
END:VCALENDAR