BEGIN:VCALENDAR
VERSION:2.0
PRODID:-//liebevoll.jetzt - ECPv6.15.20//NONSGML v1.0//EN
CALSCALE:GREGORIAN
METHOD:PUBLISH
X-WR-CALNAME:liebevoll.jetzt
X-ORIGINAL-URL:https://liebevoll.jetzt
X-WR-CALDESC:Veranstaltungen für liebevoll.jetzt
REFRESH-INTERVAL;VALUE=DURATION:PT1H
X-Robots-Tag:noindex
X-PUBLISHED-TTL:PT1H
BEGIN:VTIMEZONE
TZID:Europe/Berlin
BEGIN:DAYLIGHT
TZOFFSETFROM:+0100
TZOFFSETTO:+0200
TZNAME:CEST
DTSTART:20250330T010000
END:DAYLIGHT
BEGIN:STANDARD
TZOFFSETFROM:+0200
TZOFFSETTO:+0100
TZNAME:CET
DTSTART:20251026T010000
END:STANDARD
BEGIN:DAYLIGHT
TZOFFSETFROM:+0100
TZOFFSETTO:+0200
TZNAME:CEST
DTSTART:20260329T010000
END:DAYLIGHT
BEGIN:STANDARD
TZOFFSETFROM:+0200
TZOFFSETTO:+0100
TZNAME:CET
DTSTART:20261025T010000
END:STANDARD
BEGIN:DAYLIGHT
TZOFFSETFROM:+0100
TZOFFSETTO:+0200
TZNAME:CEST
DTSTART:20270328T010000
END:DAYLIGHT
BEGIN:STANDARD
TZOFFSETFROM:+0200
TZOFFSETTO:+0100
TZNAME:CET
DTSTART:20271031T010000
END:STANDARD
END:VTIMEZONE
BEGIN:VEVENT
DTSTART;TZID=Europe/Berlin:20260406T193000
DTEND;TZID=Europe/Berlin:20260406T203000
DTSTAMP:20260424T131338
CREATED:20260118T154918Z
LAST-MODIFIED:20260222T194229Z
UID:10004894-1775503800-1775507400@liebevoll.jetzt
SUMMARY:HERZensRAUM
DESCRIPTION:Sei gegrüßt du wundervoller Mensch. \nUnser HERZensRAUM öffnet Montags im Rhythmus von 3 Wochen seine Türen von 19:30 – 20:30 Uhr. \nWas ist das?: \nDieser Raum ist ein geschützter Begegnungs- und Heilungsraum.\nHier kannst du mit uns das teilen\, was gerade da ist und gesprochen werden will. Du kannst auch gern nur zuhören.\nIn diesem Raum wird nichts bewertet\, es gibt keine guten Ratschläge (außer du willst es)\, alles darf da sein. \nWorum geht es da? \nEs geht um echtes\, wahrhaftiges Zeigen all dessen\, was gerade in uns los ist. Unser Herzenswunsch ist es\, zu üben\, wie Verbundenheit\, Gleichwertigkeit und Unschuld gelebt werden. Darin sind wir alle Anfänger und es bedarf ein bisschen Übung\, weil wir bisher so völlig anders miteinander umgegangen sind. Es ist Zeit dafür\, umzukehren\, zum liebevollen Weg. \nRaus aus den alten Schuhen: \nWenn du die übliche Struktur und Konzepte erwartest\, ist dies möglicherweise nicht der richtige Raum für dich. Uns geht es darum\, gemeinsam mit euch etwas Neues zu erschaffen\, indem jeder sich einbringt. Ein lockerer\, ungezwungener Austausch über das\, was uns gerade bewegt\, ist uns wichtig. \nKomm\, wie du bist. Die Teilnahme ist kostenfrei. Wenn du dich angesprochen fühlst\, bist du herzlich eingeladen. \nMöchtest du dabei sein? Wir freuen uns auf deine Anmeldung. Den Zoom-Link zur Veranstaltung bekommst du dann direkt per E-Mail. Bitte beachte\, dass nach Beginn der Veranstaltung keine Anmeldung mehr möglich ist. \n \nWir freuen uns 💛 von Herzen auf dich Ute und Petra. \nHier kannst du dich melden\, wenn du Fragen hast:\nherzensraum@gmx.de und erkennedeinsein@mail.com \n  \nWir von liebevoll.jetzt bedanken uns bei Ute und Petra für dieses liebevolle Geschenk und ihr ehrenamtliches Engagement. \n		\n					\n						\n					\n			\n						\n				\n									  \n*****Du hast diese Veranstaltung als Teilnehmer(in) besucht und möchtest ein Feedback geben? Nutze dafür gern den untenstehenden Fragebogen. Herzlichen Dank! 								\n				\n				\n				\n									\n					\n						\n									Zum Feedback-Fragebogen
URL:https://liebevoll.jetzt/veranstaltung/herzensraum/2026-04-06/
LOCATION:Online
CATEGORIES:Austausch und Begegnung,Online Treffen,Online-Veranstaltung
ATTACH;FMTTYPE=image/png:https://liebevoll.jetzt/wp-content/uploads/2026/01/Bildschirmfoto-2026-01-21-um-09.59.43-1.png
ORGANIZER;CN="Petra Woods":MAILTO:erkennedeinsein@mail.com
END:VEVENT
BEGIN:VEVENT
DTSTART;TZID=Europe/Berlin:20260204T193000
DTEND;TZID=Europe/Berlin:20260204T200000
DTSTAMP:20260424T131338
CREATED:20260118T160524Z
LAST-MODIFIED:20260122T160110Z
UID:10003602-1770233400-1770235200@liebevoll.jetzt
SUMMARY:Ein Kurs in Wundern
DESCRIPTION:Ein Kurs in Wundern – Dich interessiert was das ist? \nDu hast das Buch\, weisst aber nichts damit anzufangen? \nDu bist einfach nur neugierig? \nWir\, Petra und Ute\, sind Wunderbringer und Botschafter der Liebe. Sie sind gerufen\, den Weg zu bereiten und zu erinnern an unsere wahre Natur. \nSie wollen den Menschen die Lehre des Kurs in Wundern näher bringen um gemeinsam zu wachsen und angstfrei zu leben\, gemeinsam in ein liebevolles Leben zurückzufinden. \nAls Lehrer und Schüler zugleich begleiten dich Petra und Ute auf dem Weg in die Freiheit und inneren Frieden. Durch richtig angewandte Vergebung finden wir in die Liebe zurück\, die wir sind. Gelebte Liebe führt automatisch in den Frieden. Wenn genügend Menschen das praktizieren ist der Weltfrieden ein angenehmer Nebeneffekt. \nMöchtest du dabei sein? Wir freuen uns auf deine Anmeldung. Den Zoom-Link zur Veranstaltung bekommst du dann direkt per E-Mail. Bitte beachte\, dass nach Beginn der Veranstaltung keine Anmeldung mehr möglich ist. \n \n  \n\nUnser gemeinsamer Weg im Kurs \nNach der Einführungsveranstaltung wächst aus der Gruppe eine feste\, verbindliche Gemeinschaft.Ein Einstieg ist danach erst wieder nach der nächsten Informationsveranstaltung möglich.Diese findet alle drei Monate statt. \nAb Februar machen wir uns gemeinsam neu auf den Weg mit Lektion 1 von Ein Kurs in Wundern. \nUns liegt es sehr am Herzen\, einen geschützten und liebevollen Raum zu öffnen – einen Raum\, in dem wir uns achtsam\, ehrlich und Schritt für Schritt durch den Kurs begleiten.Wir treffen uns alle drei Wochen über Zoom\, getragen von Herz\, Offenheit und gegenseitigem Vertrauen. \nUnser Wunsch ist es\, Menschen verlässlich und in Tiefe zu begleiten\, die den Kurs nicht nur lesen\, sondern wirklich leben und erfahren möchten.Deshalb bleibt die Gruppe nach der Einführung in ihrer Zusammensetzung bestehen\, damit Vertrauen wachsen und sich echte Verbindung entfalten kann. \nWillkommen sind:\n💛 Menschen\, die Ein Kurs in Wundern neu für sich entdecken💛 Übende\, die bereits selbstständig mit dem Kurs unterwegs sind💛 Quereinsteiger\, die zu den vorgesehenen Einstiegsterminen dazukommen möchten💛 Erfahrene\, die den liebevollen Austausch und die Vertiefung in Gemeinschaft schätzen \n\n  \nWir von liebevoll.jetzt bedanken uns bei Petra und Ute für dieses liebevolle Geschenk und ihr ehrenamtliches Engagement. \n		\n					\n						\n					\n			\n						\n				\n									  \n*****Du hast diese Veranstaltung als Teilnehmer(in) besucht und möchtest ein Feedback geben? Nutze dafür gern den untenstehenden Fragebogen. Herzlichen Dank! 								\n				\n				\n				\n									\n					\n						\n									Zum Feedback-Fragebogen
URL:https://liebevoll.jetzt/veranstaltung/ein-kurs-in-wundern/
LOCATION:Online
CATEGORIES:Information,Online-Veranstaltung
ATTACH;FMTTYPE=image/png:https://liebevoll.jetzt/wp-content/uploads/2026/01/Bildschirmfoto-2026-01-21-um-10.00.43-1.png
ORGANIZER;CN="Petra Woods":MAILTO:erkennedeinsein@mail.com
END:VEVENT
END:VCALENDAR