BEGIN:VCALENDAR
VERSION:2.0
PRODID:-//liebevoll.jetzt - ECPv6.15.17.1//NONSGML v1.0//EN
CALSCALE:GREGORIAN
METHOD:PUBLISH
X-WR-CALNAME:liebevoll.jetzt
X-ORIGINAL-URL:https://liebevoll.jetzt
X-WR-CALDESC:Veranstaltungen für liebevoll.jetzt
REFRESH-INTERVAL;VALUE=DURATION:PT1H
X-Robots-Tag:noindex
X-PUBLISHED-TTL:PT1H
BEGIN:VTIMEZONE
TZID:Europe/Berlin
BEGIN:DAYLIGHT
TZOFFSETFROM:+0100
TZOFFSETTO:+0200
TZNAME:CEST
DTSTART:20240331T010000
END:DAYLIGHT
BEGIN:STANDARD
TZOFFSETFROM:+0200
TZOFFSETTO:+0100
TZNAME:CET
DTSTART:20241027T010000
END:STANDARD
BEGIN:DAYLIGHT
TZOFFSETFROM:+0100
TZOFFSETTO:+0200
TZNAME:CEST
DTSTART:20250330T010000
END:DAYLIGHT
BEGIN:STANDARD
TZOFFSETFROM:+0200
TZOFFSETTO:+0100
TZNAME:CET
DTSTART:20251026T010000
END:STANDARD
BEGIN:DAYLIGHT
TZOFFSETFROM:+0100
TZOFFSETTO:+0200
TZNAME:CEST
DTSTART:20260329T010000
END:DAYLIGHT
BEGIN:STANDARD
TZOFFSETFROM:+0200
TZOFFSETTO:+0100
TZNAME:CET
DTSTART:20261025T010000
END:STANDARD
END:VTIMEZONE
BEGIN:VEVENT
DTSTART;TZID=Europe/Berlin:20250406T103000
DTEND;TZID=Europe/Berlin:20250406T120000
DTSTAMP:20260419T160859
CREATED:20250329T120846Z
LAST-MODIFIED:20260213T103107Z
UID:10001315-1743935400-1743940800@liebevoll.jetzt
SUMMARY:Online-Café mit Erika
DESCRIPTION:Herzlich willkommen in unserem Online-Café! Schön\, dass DU hier bist! \nWir – Beatrice\,  Kerstin\, Matthias und Erika möchten gemeinsam mit DIR in einen inspirierenden Austausch und eine echte Begegnung treten. Dieser Raum ist geschaffen\, um sich zu zeigen\, ohne bewertet zu werden – ein Ort\, an dem echtes Zuhören\, stille Erkenntnisse und herzliche Lacher ihren Platz haben. \nWas uns verbindet\, ist die Sehnsucht nach einem liebevollen Umgang – mit uns selbst und im Miteinander. Hier nehmen wir uns bewusst Zeit\, um Fragen zu stellen\, die in unsere Innenwelt führen\, und um unser Miteinander auf eine tiefere Ebene zu bringen. \nWenn du Lust hast\, Gleichgesinnte kennenzulernen und dich in einem warmherzigen Austausch einzubringen\, bist du hier genau richtig. Kurz vor Beginn kannst du ganz bequem über den Zoom-Link in den Raum eintreten. Nach einer kurzen Begrüßung erfolgt die Einteilung in kleine Breakout-Gruppen mit 3 bis 5 Personen. Dort hast du die Gelegenheit\, dich mit einer von uns gestellten Frage intensiver auseinanderzusetzen. Nach etwa 20-30 Minuten werden die Gruppen neu gemischt\, sodass du die Chance hast\, weitere spannende Menschen kennenzulernen und dich erneut auszutauschen. \nLass dich auf das ein\, was in DIR mitschwingt – du musst nichts leisten\, nichts beweisen. Nur da sein. Und ehrlich mit dir selbst sein! \nUns ist wichtig\, dass niemand zu einem Objekt seiner eigenen Belehrungen oder Beratungen gemacht wird. Wir hoffen\, dass alle Teilnehmenden achtsam miteinander umgehen und aufeinander achten. 😊 \n\n\n\n\nIch freue mich auf DICH! \nErika \nMöchtest du dabei sein? Dann freuen wir uns auf deine Anmeldung\, mit der du den Zoom-Link direkt per E-Mail bekommst. Bitte beachte\, dass nach Beginn der Veranstaltung keine Anmeldung mehr möglich ist. \n\n	\n	\n	\n	\n    \n\n	    \n    \n        Anmeldungen sind für diese Veranstaltung geschlossen. \n        \n        	\n\n\n\n\nWir von liebevoll.jetzt bedanken uns bei Erika für dieses liebevolle Geschenk und ihr ehrenamtliches Engagement. \n		\n					\n						\n					\n			\n						\n				\n									  \n*****Du hast diese Veranstaltung als Teilnehmer(in) besucht und möchtest ein Feedback geben? Nutze dafür gern den untenstehenden Fragebogen. Herzlichen Dank! 								\n				\n				\n				\n									\n					\n						\n									Zum Feedback-Fragebogen
URL:https://liebevoll.jetzt/veranstaltung/austausch-und-begegnung-im-online-cafe-mit-erika-10/2025-04-06/
LOCATION:Online
CATEGORIES:Austausch und Begegnung,Online Treffen,Online-Café,Online-Veranstaltung
ATTACH;FMTTYPE=image/jpeg:https://liebevoll.jetzt/wp-content/uploads/2025/03/cup-1836816_1280.jpg
END:VEVENT
END:VCALENDAR