BEGIN:VCALENDAR
VERSION:2.0
PRODID:-//liebevoll.jetzt - ECPv6.15.20//NONSGML v1.0//EN
CALSCALE:GREGORIAN
METHOD:PUBLISH
X-WR-CALNAME:liebevoll.jetzt
X-ORIGINAL-URL:https://liebevoll.jetzt
X-WR-CALDESC:Veranstaltungen für liebevoll.jetzt
REFRESH-INTERVAL;VALUE=DURATION:PT1H
X-Robots-Tag:noindex
X-PUBLISHED-TTL:PT1H
BEGIN:VTIMEZONE
TZID:Europe/Berlin
BEGIN:DAYLIGHT
TZOFFSETFROM:+0100
TZOFFSETTO:+0200
TZNAME:CEST
DTSTART:20250330T010000
END:DAYLIGHT
BEGIN:STANDARD
TZOFFSETFROM:+0200
TZOFFSETTO:+0100
TZNAME:CET
DTSTART:20251026T010000
END:STANDARD
BEGIN:DAYLIGHT
TZOFFSETFROM:+0100
TZOFFSETTO:+0200
TZNAME:CEST
DTSTART:20260329T010000
END:DAYLIGHT
BEGIN:STANDARD
TZOFFSETFROM:+0200
TZOFFSETTO:+0100
TZNAME:CET
DTSTART:20261025T010000
END:STANDARD
BEGIN:DAYLIGHT
TZOFFSETFROM:+0100
TZOFFSETTO:+0200
TZNAME:CEST
DTSTART:20270328T010000
END:DAYLIGHT
BEGIN:STANDARD
TZOFFSETFROM:+0200
TZOFFSETTO:+0100
TZNAME:CET
DTSTART:20271031T010000
END:STANDARD
END:VTIMEZONE
BEGIN:VEVENT
DTSTART;TZID=Europe/Berlin:20260831T190000
DTEND;TZID=Europe/Berlin:20260831T203000
DTSTAMP:20260425T021223
CREATED:20251202T163351Z
LAST-MODIFIED:20260310T192410Z
UID:10003100-1788202800-1788208200@liebevoll.jetzt
SUMMARY:Die Welt der Bachblüten intuitiv erleben
DESCRIPTION:Willkommen in einem Raum\, in dem du ganz bei dir ankommen darfst.\nIn meinem Online-Workshop lade ich dich ein\, die Welt der Bachblüten nicht nur zu verstehen\, sondern wirklich zu erleben – mit allen Sinnen\, mit deinem Herzen und deiner Intuition. \nVielleicht spürst du schon länger\, dass die Bachblüten mehr sind als eine Methode. Dass in ihnen eine feine\, liebevolle Energie liegt\, die uns auf seelischer Ebene berühren kann. Gemeinsam öffnen wir uns für diese Ebene und erforschen\, wie sich die einzelnen Blüten anfühlen\, welche Themen sie in uns anregen und welche Impulse sie für unseren persönlichen Weg schenken. \nWas dich erwartet \nIn einem achtsamen\, warmen Rahmen begleiten dich: \n\neine sanfte Einführung in die energetischen Qualitäten der Bachblüten\nintuitive Wahrnehmungsübungen: Spüren\, Fühlen\, Vertrauen geführte Meditationen\, die dich mit einzelnen Blütenenergien verbinden\nSelbsterfahrungs- und Körperübungen\, die dir helfen\, deine Resonanzfelder wahrzunehmen\ndie Möglichkeit\, deine ganz eigene Blütenmischung intuitiv zusammenzustellen\nInspirationen\, wie du die Blütenkräfte im Alltag für Klarheit\, Balance und innere Entwicklung nutzen kannst\n\n  \nFür wen dieser Workshop gedacht ist \nDieser Raum ist ideal\, wenn du \n\ndich für Energiearbeit\, Achtsamkeit oder Bewusstseinsentwicklung interessierst\ndie Bachblüten auf einer intuitiven und erfahrungsorientierten Ebene kennenlernen möchtest\ndeine Wahrnehmung verfeinern und dich selbst liebevoll erforschen möchtest\ndir eine Verbindung zu Natur\, Stille und deinen inneren Themen wünschst\n\n  \nAblauf \n\nLive-Online-Treffen via Zoom (60–90 Minuten)\nMeditationen\, energetische Übungen & Austausch\nImpulse\, die du direkt in deinem Alltag anwenden kannst\nOptional: Ein kleines Workbook als Begleitung\n\n  \nWas du aus dem Workshop mitnehmen kannst \n\nein tieferes Gefühl für die Bachblüten und ihre seelischen Themen\nmehr Vertrauen in dein inneres Spüren und deine Intuition\nneue Impulse für Achtsamkeit und Selbstreflexion\neine liebevolle Verbindung zu den feinen Naturenergien\, die uns umgeben\n\n  \nMöchtest du dabei sein? Melde dich hier an\, du erhältst die Zugangsdaten dann direkt per E-Mail. Bitte beachte\, dass nach Beginn der Veranstaltung keine Anmeldung mehr möglich ist. \n\n\n	\n	\n	\n	\n    \n\n	    Events in this series Mo. 27. AprilMo. 1. JuniMo. 29. JuniMo. 27. JuliMo. 31. AugustMo. 28. SeptemberMo. 26. OktoberMo. 30. November+ 3 more events\n            JETZT ANMELDEN\n        JETZT ANMELDEN\n    \n        		There were errors with your submission. Please try again.\n		\n        \n\n\n	Sei der Erste!	\n\n	\n\n				\n\n		\n		\n			\n			\n	\n		\n\n	Dein Vorname:*\n	\n						\n									\n\n\n\n	Dein Nachname:*\n	\n						\n									\n\n\n\n	Deine E-Mail-Adresse:*\n	\n						\n									\n\n\n\n	Hinweis zur Datenschutzerklärung\n	\n					\n				Mit der Anmeldung bestätige ich die Verwendung der Daten gemäß Datenschutzerklärung.\n			\n				Datenschutzerklärung\n	\n							\n\n	\n		\n\n				\n			Address\n			\n				\n				If you are a human\, do not fill in this field \n			\n		\n\n		\n						ANMELDEN\n			\n					\n\n	\n\n\n\n        		\n			Bereits registriert?\n			Bereits registriert? \n\n			\n				Verwenden Sie dieses Tool\, um Ihre Registrierung zu verwalten. \n				\n\n					\n						\n							Geben Sie Ihre registrierte E-Mail-Adresse ein*\n							\n								\n							\n						\n						\n																			\n																	\n				\n			\n		\n			\n\n\n \nWir von liebevoll.jetzt bedanken uns bei Monika für dieses liebevolle Geschenk und ihr ehrenamtliches Engagement. \n		\n					\n						\n					\n			\n						\n				\n									  \n*****Du hast diese Veranstaltung als Teilnehmer(in) besucht und möchtest ein Feedback geben? Nutze dafür gern den untenstehenden Fragebogen. Herzlichen Dank! 								\n				\n				\n				\n									\n					\n						\n									Zum Feedback-Fragebogen
URL:https://liebevoll.jetzt/veranstaltung/bachblueten-workshop-intuitive-wahrnehmung-die-feinen-botschaften-der-bachblueten/2026-08-31/
LOCATION:Online
CATEGORIES:Achtsame Selbsterfahrung,Online-Veranstaltung,Workshop
ATTACH;FMTTYPE=image/jpeg:https://liebevoll.jetzt/wp-content/uploads/2025/12/Bachblueten-Workshop.jpg
ORGANIZER;CN="Monika Meier":MAILTO:kontakt@lebedeinleben.org
END:VEVENT
END:VCALENDAR