BEGIN:VCALENDAR
VERSION:2.0
PRODID:-//liebevoll.jetzt - ECPv6.15.17.1//NONSGML v1.0//EN
CALSCALE:GREGORIAN
METHOD:PUBLISH
X-WR-CALNAME:liebevoll.jetzt
X-ORIGINAL-URL:https://liebevoll.jetzt
X-WR-CALDESC:Veranstaltungen für liebevoll.jetzt
REFRESH-INTERVAL;VALUE=DURATION:PT1H
X-Robots-Tag:noindex
X-PUBLISHED-TTL:PT1H
BEGIN:VTIMEZONE
TZID:Europe/Berlin
BEGIN:DAYLIGHT
TZOFFSETFROM:+0100
TZOFFSETTO:+0200
TZNAME:CEST
DTSTART:20250330T010000
END:DAYLIGHT
BEGIN:STANDARD
TZOFFSETFROM:+0200
TZOFFSETTO:+0100
TZNAME:CET
DTSTART:20251026T010000
END:STANDARD
BEGIN:DAYLIGHT
TZOFFSETFROM:+0100
TZOFFSETTO:+0200
TZNAME:CEST
DTSTART:20260329T010000
END:DAYLIGHT
BEGIN:STANDARD
TZOFFSETFROM:+0200
TZOFFSETTO:+0100
TZNAME:CET
DTSTART:20261025T010000
END:STANDARD
BEGIN:DAYLIGHT
TZOFFSETFROM:+0100
TZOFFSETTO:+0200
TZNAME:CEST
DTSTART:20270328T010000
END:DAYLIGHT
BEGIN:STANDARD
TZOFFSETFROM:+0200
TZOFFSETTO:+0100
TZNAME:CET
DTSTART:20271031T010000
END:STANDARD
END:VTIMEZONE
BEGIN:VEVENT
DTSTART;TZID=Europe/Berlin:20260201T100000
DTEND;TZID=Europe/Berlin:20260201T123000
DTSTAMP:20260422T045750
CREATED:20260102T134753Z
LAST-MODIFIED:20260110T141849Z
UID:73402-1769940000-1769949000@liebevoll.jetzt
SUMMARY:Baden/Wr. Neustadt (Ö) Regionaltreffen Faszinierende Weite – "Kant und die Lüge" mit Robert Hammer
DESCRIPTION:Regionaltreffen Faszinierende Weite \nThema: „Kant und die Lüge“ mit Robert Hammer \nImmanuel Kant gehört zu den Philosophen\, nach denen nichts mehr so war wie vorher. Er hat gefragt: Nach welchen Regeln dürfen wir überhaupt denken\, handeln und urteilen? Für ihn geht es nicht darum\, ob etwas praktisch\, nett oder erfolgreich ist – sondern ob es grundsätzlich für alle gelten kann. Moral ist bei Kant kein Bauchgefühl\, sondern eine Art inneres Gesetz.\nUnd genau deshalb wird es bei ihm unangenehm ehrlich: Wenn Regeln wirklich für alle gelten sollen\, dann gilt das auch für die Wahrheit. Und damit sind wir bei Kants berühmtester und umstrittenster These – dass Lügen eigentlich nie erlaubt sind.\nUnd hier wird es echt mühsam & kontroversell – das kann ich euch versprechen  \n***** \nUnsere konspirativen Treffen werden bis auf Weiteres alle 4-6 Wochen sonntags von 10-13 h im „The Italian“ in der Merkur City in Wr. Neustadt stattfinden – unser Stammtisch ist ganz links vom Eingang reserviert und Parkplätze gibt es genug! \n***** \nWir – eine bunte Gruppe von Neugierigen\, Denkern\, Phantasten\, Pseudo-Wissenschaftlern\, Leseratten und Wortliebhabern – öffnen Fenster. Nicht in die Landschaft (dafür gibt’s Google Maps)\, sondern in unseren Köpfen und damit in die Weite der Welt\, ja des ganzen Universums: zu neuen\, beflügelnden\, faszinierenden Gedanken\, die Horizonte verschieben. \nJeder erzählt\, was ihn inspiriert\, fasziniert\, berätselt und/oder irritiert: ein Satz\, ein Buch\, ein Gedanke\, ein Film\, eine Erfahrung\, überraschende Textstellen\, alte Lieblingsbücher\, frische Fundstücke – Alles\, was berührt\, fasziniert\, verwundert\, überrascht und Millionen neuer Fragen aufwirft – ist hier willkommen! Und dann? Dann spinnen wir Gedankenfäden\, Ideenbögen – kreieren und verwerfen Weltbilder und hinterfragen Überzeugungen\, verlassen Tellerränder\, bauen haarsträubende Konstruktionen – und dafür sollen bitte auch Männer kommen! – und vielleicht tun uns gelegentlich auch die Bäuche weh vor Lachen…? Wer weiß… \nWir treffen uns analog: kein Bildschirm\, kein link\, sondern ein echter Tisch um den wir zusammensitzen.\nEs gibt keine Pflichtlektüre\, kein Protokoll\, keine Prüfung. Dafür gibt’s Lachen\, Zuhören\, Erzählen und das Vergnügen\, uns miteinander in diesen Weiten wohl zu fühlen. Links vielleicht ein bisschen Alltagslärm – rechts ganz viel Weite\, Tiefe und Verbundenheit. \nEs geht darum\, sich darüber auszutauschen\, was wir tatsächlich erfahren/beobachtet haben – und zu bemurmeln\, was verschiedene Theorien erhärten oder verblassen lassen könnte…. rein aus Freude am Spekulieren. \nOb jung oder alt\, belesen oder neugierig\, laut oder leise – bei uns zählt nicht das Vorwissen\, sondern die Lust am Entdecken. Wir glauben: Manchmal reicht ein einziger Satz\, und schon wird die Welt größer.\nFaszinierende Weite ist ein Rendezvous mit Ideen. Komm vorbei – und geh mit einem erweiterten Horizont und einem Lächeln nach Hause…. \nÜber eine Anmeldung auf Birgit823@outlook.com freuen wir uns sehr\, du kannst jedoch auch spontan vorbeikommen. \n  \nWir von liebevoll.jetzt bedanken uns bei Tamara und Birgit für dieses liebevolle Geschenk und ihr ehrenamtliches Engagement. \n		\n					\n						\n					\n			\n						\n				\n									  \n*****Du hast diese Veranstaltung als Teilnehmer(in) besucht und möchtest ein Feedback geben? Nutze dafür gern den untenstehenden Fragebogen. Herzlichen Dank! 								\n				\n				\n				\n									\n					\n						\n									Zum Feedback-Fragebogen
URL:https://liebevoll.jetzt/veranstaltung/baden-wr-neustadt-oe-regionaltreffen/
LOCATION:The Italian – Merkurcity\, Stadionstraße. 10-12\, Wiener Neustadt\, 2700\, Austria
CATEGORIES:Austausch und Begegnung,Regionale Veranstaltung
ATTACH;FMTTYPE=image/png:https://liebevoll.jetzt/wp-content/uploads/2025/09/Wassertor-dreifach-skaliert.png
ORGANIZER;CN="Birgit Auer":MAILTO:Birgit823@outlook.com
GEO:47.8241243;16.2563806
X-APPLE-STRUCTURED-LOCATION;VALUE=URI;X-ADDRESS=The Italian – Merkurcity Stadionstraße. 10-12 Wiener Neustadt 2700 Austria;X-APPLE-RADIUS=500;X-TITLE=Stadionstraße. 10-12:geo:16.2563806,47.8241243
END:VEVENT
END:VCALENDAR