BEGIN:VCALENDAR
VERSION:2.0
PRODID:-//liebevoll.jetzt - ECPv6.15.17.1//NONSGML v1.0//EN
CALSCALE:GREGORIAN
METHOD:PUBLISH
X-WR-CALNAME:liebevoll.jetzt
X-ORIGINAL-URL:https://liebevoll.jetzt
X-WR-CALDESC:Veranstaltungen für liebevoll.jetzt
REFRESH-INTERVAL;VALUE=DURATION:PT1H
X-Robots-Tag:noindex
X-PUBLISHED-TTL:PT1H
BEGIN:VTIMEZONE
TZID:Europe/Berlin
BEGIN:DAYLIGHT
TZOFFSETFROM:+0100
TZOFFSETTO:+0200
TZNAME:CEST
DTSTART:20250330T010000
END:DAYLIGHT
BEGIN:STANDARD
TZOFFSETFROM:+0200
TZOFFSETTO:+0100
TZNAME:CET
DTSTART:20251026T010000
END:STANDARD
BEGIN:DAYLIGHT
TZOFFSETFROM:+0100
TZOFFSETTO:+0200
TZNAME:CEST
DTSTART:20260329T010000
END:DAYLIGHT
BEGIN:STANDARD
TZOFFSETFROM:+0200
TZOFFSETTO:+0100
TZNAME:CET
DTSTART:20261025T010000
END:STANDARD
BEGIN:DAYLIGHT
TZOFFSETFROM:+0100
TZOFFSETTO:+0200
TZNAME:CEST
DTSTART:20270328T010000
END:DAYLIGHT
BEGIN:STANDARD
TZOFFSETFROM:+0200
TZOFFSETTO:+0100
TZNAME:CET
DTSTART:20271031T010000
END:STANDARD
END:VTIMEZONE
BEGIN:VEVENT
DTSTART;TZID=Europe/Berlin:20260311T193000
DTEND;TZID=Europe/Berlin:20260311T203000
DTSTAMP:20260422T151734
CREATED:20240727T044156Z
LAST-MODIFIED:20260309T083741Z
UID:10003707-1773257400-1773261000@liebevoll.jetzt
SUMMARY:Einladung zu unserem liebevoll Treffpunkt mit Beatrice
DESCRIPTION:🌸 Herzlich willkommen zu unserem liebevoll Treffpunkt! 🌸 \nIch möchte dich von Herzen einladen\, Teil eines ganz besonderen Moments zu werden – eines kleinen Raums voller Wertschätzung\, Achtsamkeit und echter Verbindung. Hier begegnen wir uns mit offenen Herzen\, liebevollem Zuhören und echtem Interesse aneinander. Jeder Gedanke\, jedes Gefühl und jede Stimme darf Raum bekommen. \nOb du neue Impulse suchst\, etwas aus deinem Inneren teilen möchtest oder einfach nur einen wohltuenden Moment in Gemeinschaft genießen willst – du bist von Herzen willkommen. \nLass uns gemeinsam eine wertvolle Stunde gestalten\, in der wir miteinander sprechen\, einander inspirieren und uns getragen fühlen. \n✨ Da musst du einfach dabei sein – es wird schön. ✨ \nIch freue mich sehr auf dich und darauf\, diese besondere Zeit miteinander zu teilen. \nVon Herzen\,\nBeatrice \nMöchtest du dabei sein? Dann freue ich mich auf deine Anmeldung\, mit der du den Zoom-Link direkt per E-Mail bekommst. Bitte beachte\, dass nach Beginn der Veranstaltung keine Anmeldung mehr möglich ist. \n\n	\n	\n	\n	\n    \n\n	    \n    \n        Anmeldungen sind für diese Veranstaltung geschlossen. \n        \n        	\n\n\nTeilnehmerstimmen: \n\nMir tun die Treffpunkte gut\, ich weiß\, da ist jemand für mich da.\nEs ist so schön\, dass man einmal in der Woche einfach so in den Treffpunkt gehen kann und immer jemand da ist\, um zu plaudern und zu philosophieren.\nEs ist so viel möglich bei den Treffen\, die jetzt dazu gehören\, ich möchte sie nicht mehr missen\, danke an die Organisatoren dieser wunderbaren Treffen.\nIch bin so dankbar\, dass im Treffpunkt jemand da ist\, der mir zuhört.\n\nWir von liebevoll.jetzt bedanken uns bei Beatrice für dieses liebevolle Geschenk und ihr ehrenamtliches Engagement. \n		\n					\n						\n					\n			\n						\n				\n									  \n*****Du hast diese Veranstaltung als Teilnehmer(in) besucht und möchtest ein Feedback geben? Nutze dafür gern den untenstehenden Fragebogen. Herzlichen Dank! 								\n				\n				\n				\n									\n					\n						\n									Zum Feedback-Fragebogen
URL:https://liebevoll.jetzt/veranstaltung/einladung-zu-unserem-liebevoll-treffpunkt-liebevoll-jetzt-mit-beatrice/2026-03-11/
CATEGORIES:Austausch und Begegnung,Lebensfreude,Online Treffen,Online-Veranstaltung
ATTACH;FMTTYPE=image/jpeg:https://liebevoll.jetzt/wp-content/uploads/2024/07/bild-e1759587123497.jpg
ORGANIZER;CN="Beatrice Durot":MAILTO:b.durot@sunrise.ch
END:VEVENT
END:VCALENDAR