BEGIN:VCALENDAR
VERSION:2.0
PRODID:-//liebevoll.jetzt - ECPv6.15.17.1//NONSGML v1.0//EN
CALSCALE:GREGORIAN
METHOD:PUBLISH
X-WR-CALNAME:liebevoll.jetzt
X-ORIGINAL-URL:https://liebevoll.jetzt
X-WR-CALDESC:Veranstaltungen für liebevoll.jetzt
REFRESH-INTERVAL;VALUE=DURATION:PT1H
X-Robots-Tag:noindex
X-PUBLISHED-TTL:PT1H
BEGIN:VTIMEZONE
TZID:Europe/Berlin
BEGIN:DAYLIGHT
TZOFFSETFROM:+0100
TZOFFSETTO:+0200
TZNAME:CEST
DTSTART:20250330T010000
END:DAYLIGHT
BEGIN:STANDARD
TZOFFSETFROM:+0200
TZOFFSETTO:+0100
TZNAME:CET
DTSTART:20251026T010000
END:STANDARD
BEGIN:DAYLIGHT
TZOFFSETFROM:+0100
TZOFFSETTO:+0200
TZNAME:CEST
DTSTART:20260329T010000
END:DAYLIGHT
BEGIN:STANDARD
TZOFFSETFROM:+0200
TZOFFSETTO:+0100
TZNAME:CET
DTSTART:20261025T010000
END:STANDARD
BEGIN:DAYLIGHT
TZOFFSETFROM:+0100
TZOFFSETTO:+0200
TZNAME:CEST
DTSTART:20270328T010000
END:DAYLIGHT
BEGIN:STANDARD
TZOFFSETFROM:+0200
TZOFFSETTO:+0100
TZNAME:CET
DTSTART:20271031T010000
END:STANDARD
END:VTIMEZONE
BEGIN:VEVENT
DTSTART;TZID=Europe/Berlin:20260218T180000
DTEND;TZID=Europe/Berlin:20260218T190000
DTSTAMP:20260422T115028
CREATED:20251125T134647Z
LAST-MODIFIED:20260218T155444Z
UID:72965-1771437600-1771441200@liebevoll.jetzt
SUMMARY:Freude ist natürlich!
DESCRIPTION:Ist Freude natürlich?\nDas war im November die Ausgangsfrage für unser erstes Onlinetreffen dieser Veranstaltungsreihe.\nWir haben nach einem Bauplan für Freude gefragt\, den es Gott sei Dank nicht geben kann. \nFreude ist individuell\, die bedingungslose Freude am Leben\, der Gipfel.\nDoch was sind die Werkzeuge\, die den Aufstieg in Richtung des Gipfels erleichtern? \nWir haben uns mit kindlicher Neugier auf die Suche gemacht und geforscht. Erste Werkzeuge wollen wir heute mit euch teilen. \nZum Thema Wissenschaft:\nWir haben in Flora und Fauna viel erforscht\, hier machen wir uns auf\, das menschliche Verhalten über das tägliche TUN und Beobachtung zu erforschen. Was braucht es für ein gelingendes\, freudvolles\, glückliches Leben? Als Akteure dieser Forschungsreise wünschen wir uns Menschen\, die sich in einem Co-kreativen Prozess gegenseitig nähren und verbindend wirken. \nNach innen zu sehen und liebevoller mit sich umzugehen ist ein wundervoller Anker hin zu mehr Freude\, Leichtigkeit und Vertrauen.\nHerzlichen Dank an liebevoll.jetzt \nMöchtest du dabei sein? Wir freuen uns auf deine Anmeldung. Den Zoom-Link zur Veranstaltung bekommst du dann direkt per E-Mail. Bitte beachte\, dass nach Beginn der Veranstaltung keine Anmeldung mehr möglich ist. \n\n	\n	\n	\n	\n    \n\n	    \n    \n        Anmeldungen sind für diese Veranstaltung geschlossen. \n        \n        	\n\n\nHier der Zoom-Link zur Veranstaltung: \nhttps://us06web.zoom.us/j/87586043779?pwd=gtiNn8dyj9xWaWav6vi9DVeqOLQbzR.1\nMeeting-ID: 875 8604 3779\nKenncode: liebevoll \nWenn du bei liebevoll.jetzt registriert bist\, findest du für gemeinsamen Austausch hier die Gruppe: https://casa.liebevoll.jetzt/gruppen/lebendige-freude-entfalten/ \nWir von liebevoll.jetzt bedanken uns bei Georg für dieses liebevolle Geschenk und sein ehrenamtliches Engagement. \n		\n					\n						\n					\n			\n						\n				\n									  \n*****Du hast diese Veranstaltung als Teilnehmer(in) besucht und möchtest ein Feedback geben? Nutze dafür gern den untenstehenden Fragebogen. Herzlichen Dank! 								\n				\n				\n				\n									\n					\n						\n									Zum Feedback-Fragebogen
URL:https://liebevoll.jetzt/veranstaltung/freude-ist-natuerlich/
LOCATION:Online
CATEGORIES:Austausch und Begegnung,Lebensfreude,Online-Veranstaltung
ATTACH;FMTTYPE=image/jpeg:https://liebevoll.jetzt/wp-content/uploads/2025/11/Freudebotschafter_hinterlasse-deinen-Fussabdruck-1.jpg
ORGANIZER;CN="Georg Dygruber%2C Salzburg":MAILTO:georg@freudebotschafter.jetzt
END:VEVENT
END:VCALENDAR