BEGIN:VCALENDAR
VERSION:2.0
PRODID:-//liebevoll.jetzt - ECPv6.15.20//NONSGML v1.0//EN
CALSCALE:GREGORIAN
METHOD:PUBLISH
X-WR-CALNAME:liebevoll.jetzt
X-ORIGINAL-URL:https://liebevoll.jetzt
X-WR-CALDESC:Veranstaltungen für liebevoll.jetzt
REFRESH-INTERVAL;VALUE=DURATION:PT1H
X-Robots-Tag:noindex
X-PUBLISHED-TTL:PT1H
BEGIN:VTIMEZONE
TZID:Europe/Berlin
BEGIN:DAYLIGHT
TZOFFSETFROM:+0100
TZOFFSETTO:+0200
TZNAME:CEST
DTSTART:20250330T010000
END:DAYLIGHT
BEGIN:STANDARD
TZOFFSETFROM:+0200
TZOFFSETTO:+0100
TZNAME:CET
DTSTART:20251026T010000
END:STANDARD
BEGIN:DAYLIGHT
TZOFFSETFROM:+0100
TZOFFSETTO:+0200
TZNAME:CEST
DTSTART:20260329T010000
END:DAYLIGHT
BEGIN:STANDARD
TZOFFSETFROM:+0200
TZOFFSETTO:+0100
TZNAME:CET
DTSTART:20261025T010000
END:STANDARD
BEGIN:DAYLIGHT
TZOFFSETFROM:+0100
TZOFFSETTO:+0200
TZNAME:CEST
DTSTART:20270328T010000
END:DAYLIGHT
BEGIN:STANDARD
TZOFFSETFROM:+0200
TZOFFSETTO:+0100
TZNAME:CET
DTSTART:20271031T010000
END:STANDARD
END:VTIMEZONE
BEGIN:VEVENT
DTSTART;TZID=Europe/Berlin:20261219T183000
DTEND;TZID=Europe/Berlin:20261219T203000
DTSTAMP:20260424T160135
CREATED:20240924T163011Z
LAST-MODIFIED:20260225T100525Z
UID:10001514-1797705000-1797712200@liebevoll.jetzt
SUMMARY:Gemeinsam die vier Sonnenfeste feiern
DESCRIPTION:„Ein Leben ohne Feste ist wie eine lange Wanderung ohne Rast“ \nWer schon einmal an einem Jahreskreisfest teilgenommen hat\, weiß um den Zauber und die Kraft eines solchen Festes. Es ist  die Verbundenheit mit Mutter Erde in all ihren Lebensphasen\, eine gewisse Vertrautheit und Verbundenheit mit der Natur und dem Ursprünglichen. Das Wissen\, dass alles zusammengehört\, wie Sonne und Mond. Wir feiern im Einklang miteinander Anfang und Ende\, das Geschehene und das noch Kommende auf gleicher Ebene. Vielleicht hast du Lust bekommen\, mit uns zu feiern. \n💛 \n„Such dir gern einen Gegenstand aus der Natur und lege ihn zusammen mit Papier und Schreibzeug bereit.“ \nWir freuen uns sehr darauf\, mit euch zu feiern und eine unvergessliche Zeit  zu verbringen. \nFernande und Beatrice \nMöchtest du dabei sein? Dann freuen wir uns auf deine Anmeldung\, mit der du den Zoom-Link direkt per E-Mail bekommst. Bitte beachte\, dass nach Beginn der Veranstaltung keine Anmeldung mehr möglich ist. \n\n\n	\n	\n	\n	\n    \n\n	    Events in this series Sa. 19. SeptemberSa. 19. Dezember\n            JETZT ANMELDEN\n        JETZT ANMELDEN\n    \n        		There were errors with your submission. Please try again.\n		\n        \n\n\n	Tritt jetzt auch bei	\n\n	\n\n				\n\n		\n		\n			\n			\n	\n		\n\n	Dein Vorname:*\n	\n						\n									\n\n\n\n	Dein Nachname:*\n	\n						\n									\n\n\n\n	Deine E-Mail-Adresse:*\n	\n						\n									\n\n\n\n	Hinweis zur Datenschutzerklärung\n	\n					\n				Mit der Anmeldung bestätige ich die Verwendung der Daten gemäß Datenschutzerklärung.\n			\n				Datenschutzerklärung\n	\n							\n\n	\n		\n\n				\n			Address\n			\n				\n				If you are a human\, do not fill in this field \n			\n		\n\n		\n						ANMELDEN\n			\n					\n\n	\n\n\n\n        		\n			Bereits registriert?\n			Bereits registriert? \n\n			\n				Verwenden Sie dieses Tool\, um Ihre Registrierung zu verwalten. \n				\n\n					\n						\n							Geben Sie Ihre registrierte E-Mail-Adresse ein*\n							\n								\n							\n						\n						\n																			\n																	\n				\n			\n		\n			\n\n\n\n		\n					\n						\n					\n			\n						\n				\n									  \n*****Du hast diese Veranstaltung als Teilnehmer(in) besucht und möchtest ein Feedback geben? Nutze dafür gern den untenstehenden Fragebogen. Herzlichen Dank! 								\n				\n				\n				\n									\n					\n						\n									Zum Feedback-Fragebogen
URL:https://liebevoll.jetzt/veranstaltung/gemeinsam-die-vier-sonnenfeste-feiern/2026-12-19/
CATEGORIES:Achtsame Selbsterfahrung,Austausch und Begegnung,Online Treffen,Online-Veranstaltung
ATTACH;FMTTYPE=image/jpeg:https://liebevoll.jetzt/wp-content/uploads/2024/09/Screenshot_20251101_122922_Google-scaled.jpg
ORGANIZER;CN="Beatrice Durot":MAILTO:b.durot@sunrise.ch
END:VEVENT
END:VCALENDAR