BEGIN:VCALENDAR
VERSION:2.0
PRODID:-//liebevoll.jetzt - ECPv6.15.17.1//NONSGML v1.0//EN
CALSCALE:GREGORIAN
METHOD:PUBLISH
X-WR-CALNAME:liebevoll.jetzt
X-ORIGINAL-URL:https://liebevoll.jetzt
X-WR-CALDESC:Veranstaltungen für liebevoll.jetzt
REFRESH-INTERVAL;VALUE=DURATION:PT1H
X-Robots-Tag:noindex
X-PUBLISHED-TTL:PT1H
BEGIN:VTIMEZONE
TZID:Europe/Berlin
BEGIN:DAYLIGHT
TZOFFSETFROM:+0100
TZOFFSETTO:+0200
TZNAME:CEST
DTSTART:20250330T010000
END:DAYLIGHT
BEGIN:STANDARD
TZOFFSETFROM:+0200
TZOFFSETTO:+0100
TZNAME:CET
DTSTART:20251026T010000
END:STANDARD
BEGIN:DAYLIGHT
TZOFFSETFROM:+0100
TZOFFSETTO:+0200
TZNAME:CEST
DTSTART:20260329T010000
END:DAYLIGHT
BEGIN:STANDARD
TZOFFSETFROM:+0200
TZOFFSETTO:+0100
TZNAME:CET
DTSTART:20261025T010000
END:STANDARD
BEGIN:DAYLIGHT
TZOFFSETFROM:+0100
TZOFFSETTO:+0200
TZNAME:CEST
DTSTART:20270328T010000
END:DAYLIGHT
BEGIN:STANDARD
TZOFFSETFROM:+0200
TZOFFSETTO:+0100
TZNAME:CET
DTSTART:20271031T010000
END:STANDARD
END:VTIMEZONE
BEGIN:VEVENT
DTSTART;TZID=Europe/Berlin:20260318T180000
DTEND;TZID=Europe/Berlin:20260318T213000
DTSTAMP:20260419T172712
CREATED:20260222T090038Z
LAST-MODIFIED:20260222T090256Z
UID:74302-1773856800-1773869400@liebevoll.jetzt
SUMMARY:Mit dem Neumond durch den Jahreskreis
DESCRIPTION:Herzliche Einladung zu unserer astrologischen Veranstaltungsreihe.\nBirgit Randenberg begleitet uns durch den Abend und gibt uns wertvolle Einblicke in die Qualität des jeweiligen Neumonds. Sie zeigt uns auf\, wie wir diese für unsere persönlichen oder gemeinschaftlichen Ziele nutzen können. Der Neumond markiert den Beginn eines neuen Zyklus und bietet eine besondere Zeitqualität\, die wir bewusst für unsere persönliche Entwicklung und Ausrichtung nutzen können. Jeden Monat\, 1-2 Tage vor dem Neumond \, nehmen wir uns Zeit\, um innezuhalten\, altes loszulassen und neue Impulse zu setzen. \nUnser nächster Termin findet am Mittwoch\, den 18. März 2026 um 18:00 Uhr zum Fische-Neumond statt. \nLass dich inspirieren\, tauche in die Qualität dieses Neumonds ein und gestalte die kommenden Wochen voller Bewusstsein und Kraft. Wir freuen uns darauf\, mit dir gemeinsam das Neue willkommen zu heißen und persönliche Entwicklung zu fördern. \nDarüber hinaus wirft Birgit einen kurzen Blick auf dein persönliches Grundhoroskop um dir zum Neumond noch individuelle Impulse mitzugeben. \nUm dies gut vorbereiten zu können\, sende bitte deine Teilnahme (beim ersten Mal\, mit den zur Erstellung eines Horoskopes benötigten Infos: Name\, Geburtsdatum\, – jahr\, -uhrzeit und – ort) an randenberg@posteo.de \nDie Reihenfolge der individuelle Betrachtungen richtet sich nach Eingang der Anmeldungen\, ca. 5 sind pro Abend möglich. \nWir sehen uns mit diesem Link bei senfcall: \nhttps://lecture.senfcall.de/bir-hk6-e1i-b5h\nZugangscode: 755042\nKenncode: Neumond \nWir von liebevoll.jetzt bedanken uns bei Birgit für dieses liebevolle Geschenk und ihr ehrenamtliches Engagement. \n		\n					\n						\n					\n			\n						\n				\n									  \n*****Du hast diese Veranstaltung als Teilnehmer(in) besucht und möchtest ein Feedback geben? Nutze dafür gern den untenstehenden Fragebogen. Herzlichen Dank! 								\n				\n				\n				\n									\n					\n						\n									Zum Feedback-Fragebogen\n					\n					\n				\n								\n				\n					\n		\n					\n		\n				\n		\nTeilnehmer-Feedback: \nEs war wirklich ein schöner Abend. Sehr angenehme Leute. Birgit und Birgit waren eine absolute Bereicherung. Vielen Dank.
URL:https://liebevoll.jetzt/veranstaltung/mit-dem-neumond-durch-den-jahreskreis-3/
LOCATION:Online
CATEGORIES:Information,Online-Veranstaltung
ATTACH;FMTTYPE=image/jpeg:https://liebevoll.jetzt/wp-content/uploads/2025/03/Milchstrasse.jpg
ORGANIZER;CN="Birgit Randenberg":MAILTO:randenberg@posteo.de
END:VEVENT
END:VCALENDAR