BEGIN:VCALENDAR
VERSION:2.0
PRODID:-//liebevoll.jetzt - ECPv6.15.20//NONSGML v1.0//EN
CALSCALE:GREGORIAN
METHOD:PUBLISH
X-WR-CALNAME:liebevoll.jetzt
X-ORIGINAL-URL:https://liebevoll.jetzt
X-WR-CALDESC:Veranstaltungen für liebevoll.jetzt
REFRESH-INTERVAL;VALUE=DURATION:PT1H
X-Robots-Tag:noindex
X-PUBLISHED-TTL:PT1H
BEGIN:VTIMEZONE
TZID:Europe/Berlin
BEGIN:DAYLIGHT
TZOFFSETFROM:+0100
TZOFFSETTO:+0200
TZNAME:CEST
DTSTART:20250330T010000
END:DAYLIGHT
BEGIN:STANDARD
TZOFFSETFROM:+0200
TZOFFSETTO:+0100
TZNAME:CET
DTSTART:20251026T010000
END:STANDARD
BEGIN:DAYLIGHT
TZOFFSETFROM:+0100
TZOFFSETTO:+0200
TZNAME:CEST
DTSTART:20260329T010000
END:DAYLIGHT
BEGIN:STANDARD
TZOFFSETFROM:+0200
TZOFFSETTO:+0100
TZNAME:CET
DTSTART:20261025T010000
END:STANDARD
BEGIN:DAYLIGHT
TZOFFSETFROM:+0100
TZOFFSETTO:+0200
TZNAME:CEST
DTSTART:20270328T010000
END:DAYLIGHT
BEGIN:STANDARD
TZOFFSETFROM:+0200
TZOFFSETTO:+0100
TZNAME:CET
DTSTART:20271031T010000
END:STANDARD
END:VTIMEZONE
BEGIN:VEVENT
DTSTART;TZID=Europe/Berlin:20260123T193000
DTEND;TZID=Europe/Berlin:20260123T200000
DTSTAMP:20260424T131316
CREATED:20260105T110027Z
LAST-MODIFIED:20260105T110027Z
UID:73423-1769196600-1769198400@liebevoll.jetzt
SUMMARY:Monochord - Klängen lauschen
DESCRIPTION:Ganz herzliche Einladung zum Klang lauschen!\nSeit sehr vielen Jahren spiele ich Meditative Klangreisen. Ein wesentliches Element sind dabei die Klänge von Monochorden. \nAn diesem Abend spiele ich für euch auf meiner „Lindau“ – einem Monochord\, das mir besonders am Herzen liegt. Die „Lindau“ wurde von meinem Mann und mir konzipiert und mit Hilfe eines Freundes gebaut. Das Holz ist im Umkreis meines Heimatortes in Niedersachen gewachsen und wurde sehr lange gelagert\, bevor es seine Bestimmung als Klanginstrument gefunden hat. \nAltes Holz\, das singt – das war die Reaktion unseres Freundes\, als er den Klang der fertig gestimmten Lindau zum ersten Mal hörte. Und tatsächlich sind die obertonreichen Klänge der Lindau in besonderer Weise wohltuend. Sie laden zum Innehalten und zur Rückbesinnung ein. \nSchön\, wenn du dabei bist. Mach es dir zu Hause gemütlich\, zünde vielleicht eine Kerze an und stelle dich innerlich aufs Lauschen ein. Nach einer kurzen Begrüßung und Einführung kannst du den Klang pur – ohne Worte – genießen. \nIch freue mich auf die Klangzeit mit euch. Herzlich willkommen! \nPS: Ein Kopfhörer kann unterstützend sein für ein intensives Klangerlebnis. \nZoom-Link: https://us04web.zoom.us/j/74878575911?pwd=9dQsIBDy0VRcz3UHypV4eefFr0Ubdc.1 \nWir von liebevoll.jetzt bedanken uns bei Ulrike für dieses liebevolle Geschenk und ihr ehrenamtliches Engagement. \n		\n					\n						\n					\n			\n						\n				\n									  \n*****Du hast diese Veranstaltung als Teilnehmer(in) besucht und möchtest ein Feedback geben? Nutze dafür gern den untenstehenden Fragebogen. Herzlichen Dank! 								\n				\n				\n				\n									\n					\n						\n									Zum Feedback-Fragebogen
URL:https://liebevoll.jetzt/veranstaltung/monochord-klaengen-lauschen-2/
LOCATION:Online
CATEGORIES:Körper-Selbsterfahrung,Online-Veranstaltung
ATTACH;FMTTYPE=image/jpeg:https://liebevoll.jetzt/wp-content/uploads/2025/11/Lindau-05.jpg
ORGANIZER;CN="Ulrike Fahlbusch":MAILTO:info@ulrike-fahlbusch.de
END:VEVENT
END:VCALENDAR