BEGIN:VCALENDAR
VERSION:2.0
PRODID:-//liebevoll.jetzt - ECPv6.15.20//NONSGML v1.0//EN
CALSCALE:GREGORIAN
METHOD:PUBLISH
X-WR-CALNAME:liebevoll.jetzt
X-ORIGINAL-URL:https://liebevoll.jetzt
X-WR-CALDESC:Veranstaltungen für liebevoll.jetzt
REFRESH-INTERVAL;VALUE=DURATION:PT1H
X-Robots-Tag:noindex
X-PUBLISHED-TTL:PT1H
BEGIN:VTIMEZONE
TZID:Europe/Berlin
BEGIN:DAYLIGHT
TZOFFSETFROM:+0100
TZOFFSETTO:+0200
TZNAME:CEST
DTSTART:20240331T010000
END:DAYLIGHT
BEGIN:STANDARD
TZOFFSETFROM:+0200
TZOFFSETTO:+0100
TZNAME:CET
DTSTART:20241027T010000
END:STANDARD
BEGIN:DAYLIGHT
TZOFFSETFROM:+0100
TZOFFSETTO:+0200
TZNAME:CEST
DTSTART:20250330T010000
END:DAYLIGHT
BEGIN:STANDARD
TZOFFSETFROM:+0200
TZOFFSETTO:+0100
TZNAME:CET
DTSTART:20251026T010000
END:STANDARD
BEGIN:DAYLIGHT
TZOFFSETFROM:+0100
TZOFFSETTO:+0200
TZNAME:CEST
DTSTART:20260329T010000
END:DAYLIGHT
BEGIN:STANDARD
TZOFFSETFROM:+0200
TZOFFSETTO:+0100
TZNAME:CET
DTSTART:20261025T010000
END:STANDARD
END:VTIMEZONE
BEGIN:VEVENT
DTSTART;TZID=Europe/Berlin:20251222T193000
DTEND;TZID=Europe/Berlin:20251222T200000
DTSTAMP:20260424T131257
CREATED:20251127T162630Z
LAST-MODIFIED:20251202T164835Z
UID:73020-1766431800-1766433600@liebevoll.jetzt
SUMMARY:Monochord - Klängen lauschen
DESCRIPTION:Ganz herzliche Einladung zum Klang lauschen!\nSeit sehr vielen Jahren spiele ich meditative Klangreisen mit verschiedenen Monochorden. \nAn diesem Abend möchte ich für euch meine „Lindau“ spielen. Die Lindau ist ein Instrument\, das mir sehr am Herzen liegt. Denn es ist von meinem Mann und mir selbst konzipiert und mit Hilfe eines Freundes gebaut worden. Das Holz ist gewachsen in der Nähe meines niedersächsischen Heimatortes und lagerte dort 40 Jahre bevor es seine Bestimmung als Klanginstrument gefunden hat. \nEs ist für mich ein bisschen aufregend\, da ich das Klangspielen nun zum ersten Mal online durchführe. \nSchön\, wenn du dabei bist. Sei herzlich willkommen\, mach es dir zu Hause gemütlich und lausche dem Klang der Lindau! \nZoom-Link: https://us04web.zoom.us/j/75415424830?pwd=gCInWkUl2nvQorteIXImQCmuVB5O6a.1  \nWir von liebevoll.jetzt bedanken uns bei Ulrike für dieses liebevolle Geschenk und ihr ehrenamtliches Engagement. \n		\n					\n						\n					\n			\n						\n				\n									  \n*****Du hast diese Veranstaltung als Teilnehmer(in) besucht und möchtest ein Feedback geben? Nutze dafür gern den untenstehenden Fragebogen. Herzlichen Dank! 								\n				\n				\n				\n									\n					\n						\n									Zum Feedback-Fragebogen
URL:https://liebevoll.jetzt/veranstaltung/monochord-klaengen-lauschen/
LOCATION:Online
CATEGORIES:Körper-Selbsterfahrung,Online-Veranstaltung
ATTACH;FMTTYPE=image/jpeg:https://liebevoll.jetzt/wp-content/uploads/2025/11/Lindau-05.jpg
ORGANIZER;CN="Ulrike Fahlbusch":MAILTO:info@ulrike-fahlbusch.de
END:VEVENT
END:VCALENDAR