BEGIN:VCALENDAR
VERSION:2.0
PRODID:-//liebevoll.jetzt - ECPv6.15.20//NONSGML v1.0//EN
CALSCALE:GREGORIAN
METHOD:PUBLISH
X-WR-CALNAME:liebevoll.jetzt
X-ORIGINAL-URL:https://liebevoll.jetzt
X-WR-CALDESC:Veranstaltungen für liebevoll.jetzt
REFRESH-INTERVAL;VALUE=DURATION:PT1H
X-Robots-Tag:noindex
X-PUBLISHED-TTL:PT1H
BEGIN:VTIMEZONE
TZID:Europe/Berlin
BEGIN:DAYLIGHT
TZOFFSETFROM:+0100
TZOFFSETTO:+0200
TZNAME:CEST
DTSTART:20240331T010000
END:DAYLIGHT
BEGIN:STANDARD
TZOFFSETFROM:+0200
TZOFFSETTO:+0100
TZNAME:CET
DTSTART:20241027T010000
END:STANDARD
BEGIN:DAYLIGHT
TZOFFSETFROM:+0100
TZOFFSETTO:+0200
TZNAME:CEST
DTSTART:20250330T010000
END:DAYLIGHT
BEGIN:STANDARD
TZOFFSETFROM:+0200
TZOFFSETTO:+0100
TZNAME:CET
DTSTART:20251026T010000
END:STANDARD
BEGIN:DAYLIGHT
TZOFFSETFROM:+0100
TZOFFSETTO:+0200
TZNAME:CEST
DTSTART:20260329T010000
END:DAYLIGHT
BEGIN:STANDARD
TZOFFSETFROM:+0200
TZOFFSETTO:+0100
TZNAME:CET
DTSTART:20261025T010000
END:STANDARD
END:VTIMEZONE
BEGIN:VEVENT
DTSTART;TZID=Europe/Berlin:20251021T080000
DTEND;TZID=Europe/Berlin:20251021T084500
DTSTAMP:20260425T180419
CREATED:20250909T081023Z
LAST-MODIFIED:20251124T193110Z
UID:10001196-1761033600-1761036300@liebevoll.jetzt
SUMMARY:Qigong am Morgen
DESCRIPTION:Mit einem Morgenritual aus uralten Übungen des Qigong und dem Herzqigong \nImmer am Dienstag von 8.00 Uhr bis ca. 8.45 Uhr \nEgal\, wo ihr gerade seit auf diesem herrlichen Planeten könnt ihr online teilnehmen. \n\nDer Organfunktionskreis Feuer ist dem Herzen zugeordnet und wird durch Herz Qigong Übungen gezielt beeinflusst.\nDie Herz Qigong Übungen wirken auch auf den Organfunktionskreis Wasser\, der den Nieren zugeordnet ist.\nDie Übungen lassen die Meridiane durchlässiger werden\, beseitigen Blockaden des Qi und können Körper wie Geist ins Gleichgewicht bringen durch eine Förderung der Harmonie von Yin und Yang.\nDie Herzenergie kann harmonisch fließen.\nEs soll nur so viel geübt werden wie nötig.\nDer Herzkreislauf wird angeregt und sanft trainiert.\nDie Herz Übungen im Qigong kultivieren die Herzenergie.\nDer Herzraum wird mit Lebensenergie gefüllt.\nWenn der Herzkreislauf gut arbeitet\, dann macht sich dies bemerkbar in einer inneren Leichtigkeit und dem Gefühl eines geweiteten Brustkorbes…\n\n… und kann sich in ein heilendes Morgenritual verwandeln … \nZoom-Link: \nhttps://us02web.zoom.us/j/87074978756?pwd=WmqTKrliYzaabi1pwFh1ahPa7biEfb.1 \nMeeting-ID: 870 7497 8756 \nKenncode: 510922 \nbeateweikert.de  \n  \nWir von liebevoll.jetzt bedanken uns bei Beate für dieses liebevolle Geschenk und ihr ehrenamtliches Engagement.
URL:https://liebevoll.jetzt/veranstaltung/qigong-am-morgen/2025-10-21/
CATEGORIES:Online-Veranstaltung,Workshop
ATTACH;FMTTYPE=image/jpeg:https://liebevoll.jetzt/wp-content/uploads/2025/09/yin-yang-7484632_1280.jpg
ORGANIZER;CN="Beate Weikert":MAILTO:beate.weikert@gmail.com
END:VEVENT
END:VCALENDAR