BEGIN:VCALENDAR
VERSION:2.0
PRODID:-//liebevoll.jetzt - ECPv6.15.17.1//NONSGML v1.0//EN
CALSCALE:GREGORIAN
METHOD:PUBLISH
X-WR-CALNAME:liebevoll.jetzt
X-ORIGINAL-URL:https://liebevoll.jetzt
X-WR-CALDESC:Veranstaltungen für liebevoll.jetzt
REFRESH-INTERVAL;VALUE=DURATION:PT1H
X-Robots-Tag:noindex
X-PUBLISHED-TTL:PT1H
BEGIN:VTIMEZONE
TZID:Europe/Berlin
BEGIN:DAYLIGHT
TZOFFSETFROM:+0100
TZOFFSETTO:+0200
TZNAME:CEST
DTSTART:20240331T010000
END:DAYLIGHT
BEGIN:STANDARD
TZOFFSETFROM:+0200
TZOFFSETTO:+0100
TZNAME:CET
DTSTART:20241027T010000
END:STANDARD
BEGIN:DAYLIGHT
TZOFFSETFROM:+0100
TZOFFSETTO:+0200
TZNAME:CEST
DTSTART:20250330T010000
END:DAYLIGHT
BEGIN:STANDARD
TZOFFSETFROM:+0200
TZOFFSETTO:+0100
TZNAME:CET
DTSTART:20251026T010000
END:STANDARD
BEGIN:DAYLIGHT
TZOFFSETFROM:+0100
TZOFFSETTO:+0200
TZNAME:CEST
DTSTART:20260329T010000
END:DAYLIGHT
BEGIN:STANDARD
TZOFFSETFROM:+0200
TZOFFSETTO:+0100
TZNAME:CET
DTSTART:20261025T010000
END:STANDARD
END:VTIMEZONE
BEGIN:VEVENT
DTSTART;TZID=Europe/Berlin:20251129T090000
DTEND;TZID=Europe/Berlin:20251129T113000
DTSTAMP:20260422T162635
CREATED:20251022T112643Z
LAST-MODIFIED:20251128T094443Z
UID:72441-1764406800-1764415800@liebevoll.jetzt
SUMMARY:Regionalgruppe Salzburg - Raum für liebevolle\, freudvolle Begegnung
DESCRIPTION:Einen analogen Raum für liebevolle\, freudvolle Begegnung schaffen\nstaging.liebevoll.jetzt/ sieht sich als einen Ort für Begegnung\, Austausch und\nindividuelles Wachstum und führt uns zusammen.\nBei dieser Begegnung geht es nicht um unsere persönliche Rolle im Leben\,\nvielmehr um unsere Bedürfnisse als Mensch.\nUm liebevoller mit sich selbst umzugehen\, wollen wir als ein Werkzeug das\nverbindende Gefühl der Freude erforschen. Kann es für Freude einen Bauplan\ngeben? \nDas gemeinsame Anliegen könnte lauten: In liebevoller Begegnung\nalltagstaugliche Handlungen für den Weg von materiellem\, zu menschlichem\nReichtum zu finden. \nWir verbinden unser Zusammenkommen mit einem genussvollen Frühstück\,\nEnde flexibel und offen. Fühle dich herzlich eingeladen! \nRückfragen gerne auch telefonisch an Georg dem Freudebotschafter: \n0043 664 45 22 227 \nDer Raum ist begrenzt\, Anmeldeschluss 27.11! \nAnmeldung per Mail: \ngeorg@freudebotschafter.jetzt \nTermin:\nSA 29. November\, 09:00\nCafé El’risa\, Metzgergasse 9\, 5400 Hallein \n  \nWir von liebevoll.jetzt bedanken uns bei Georg für dieses liebevolle Geschenk und sein ehrenamtliches Engagement. \n		\n					\n						\n					\n			\n						\n				\n									  \n*****Du hast diese Veranstaltung als Teilnehmer(in) besucht und möchtest ein Feedback geben? Nutze dafür gern den untenstehenden Fragebogen. Herzlichen Dank! 								\n				\n				\n				\n									\n					\n						\n									Zum Feedback-Fragebogen
URL:https://liebevoll.jetzt/veranstaltung/regionalgruppe-salzburg-raum-fuer-liebevolle-freudvolle-begegnung/
CATEGORIES:Austausch und Begegnung,Lebensfreude,Regionale Veranstaltung
ATTACH;FMTTYPE=image/jpeg:https://liebevoll.jetzt/wp-content/uploads/2025/10/Regionalgruppe_Salzburg-scaled-1.jpeg
ORGANIZER;CN="Georg Dygruber%2C Salzburg":MAILTO:georg@freudebotschafter.jetzt
END:VEVENT
END:VCALENDAR