BEGIN:VCALENDAR
VERSION:2.0
PRODID:-//liebevoll.jetzt - ECPv6.15.17.1//NONSGML v1.0//EN
CALSCALE:GREGORIAN
METHOD:PUBLISH
X-WR-CALNAME:liebevoll.jetzt
X-ORIGINAL-URL:https://liebevoll.jetzt
X-WR-CALDESC:Veranstaltungen für liebevoll.jetzt
REFRESH-INTERVAL;VALUE=DURATION:PT1H
X-Robots-Tag:noindex
X-PUBLISHED-TTL:PT1H
BEGIN:VTIMEZONE
TZID:Europe/Berlin
BEGIN:DAYLIGHT
TZOFFSETFROM:+0100
TZOFFSETTO:+0200
TZNAME:CEST
DTSTART:20250330T010000
END:DAYLIGHT
BEGIN:STANDARD
TZOFFSETFROM:+0200
TZOFFSETTO:+0100
TZNAME:CET
DTSTART:20251026T010000
END:STANDARD
BEGIN:DAYLIGHT
TZOFFSETFROM:+0100
TZOFFSETTO:+0200
TZNAME:CEST
DTSTART:20260329T010000
END:DAYLIGHT
BEGIN:STANDARD
TZOFFSETFROM:+0200
TZOFFSETTO:+0100
TZNAME:CET
DTSTART:20261025T010000
END:STANDARD
BEGIN:DAYLIGHT
TZOFFSETFROM:+0100
TZOFFSETTO:+0200
TZNAME:CEST
DTSTART:20270328T010000
END:DAYLIGHT
BEGIN:STANDARD
TZOFFSETFROM:+0200
TZOFFSETTO:+0100
TZNAME:CET
DTSTART:20271031T010000
END:STANDARD
END:VTIMEZONE
BEGIN:VEVENT
DTSTART;TZID=Europe/Berlin:20260321T100000
DTEND;TZID=Europe/Berlin:20260321T150000
DTSTAMP:20260422T163852
CREATED:20260102T131750Z
LAST-MODIFIED:20260216T165911Z
UID:73370-1774087200-1774105200@liebevoll.jetzt
SUMMARY:Regionalgruppe Salzburg\, 2. Treffen - Raum für liebevolle\, freudvolle Begegnung
DESCRIPTION:Einen analogen Raum für liebevolle\, freudvolle Begegnung schaffen und in\nBewegung kommen. \nLiebevoll.jetzt sieht sich als einen Ort für Begegnung\, Austausch und\nindividuelles Wachstum und führt uns zusammen.\nBei dieser Begegnung geht es nicht um unsere persönliche Rolle im Leben\,\nvielmehr um unsere Bedürfnisse als Mensch. \nUm liebevoller mit sich selbst umzugehen\, wollen wir als Werkzeug das\nverbindende Gefühl der Freude erforschen und die Haltung der Freude stärken.\nDas gemeinsame Anliegen könnte lauten: In liebevoller Begegnung\nalltagstaugliche Handlungen für den Weg von materiellem\, zu menschlichem\nReichtum finden. \nVerlassen wir Standpunkte und kommen wir mit einer kleinen Wanderung\ngemeinsam in Bewegung. \nDazu starten wir am SA 21. März um 10:00 beim Kindergarten Grünauerstr. 83\,\n5071 Wals \nWir gehen den Grünauer Steg. Über die Hammerauer Brücke folgen wir einem\nidyllischen\, hügeligen Weg durch Wiesen und Felder zum Johannishögl. Weiter\ngeht´s zur Kneippanlage\, wer mag mit erfrischender Pause. Weiter führt ein\nleichter Aufstieg zur Neubichleralm mit traumhaftem Ausblick. Barbara\, danke für die Auswahl! Ruhe\, Freude\nkommen bei ihr als Gedanken auf. \nBereichert kehren wir als Ausklang – wer mag – beim Auwirt in Hammerau ein.\nWir lassen die Zeit\, bzw. Dauer offen. Es ist der Wunsch einen Co-Kreativen Tag\nzu erleben\, ihn gemeinsam zu gestalten. Überraschungen Willkommen!\nAls Info: Die Gesamtstrecke ist mit ca. 12 Kilometer sehr überschaubar. Die\nNatur dient uns als Begegnungsraum. Es ist der schönste und größte Seminarraum der Welt. \nKeine Anmeldung\, wer um 10 Uhr da ist\, ist da. Im Sinne der Co-Kreation die\nEinladung gerne verteilen. Die Zukunft ist nicht vorbestimmt\, wir gestalten sie\nlebensförderlich! \nWir sind wetterunabhängig unterwegs\, raus aus der Komfortzone! \nKinder als Bereicherung sind herzlich Willkommen! \n  \nWir von liebevoll.jetzt bedanken uns bei Georg für dieses liebevolle Geschenk und sein ehrenamtliches Engagement. \n		\n					\n						\n					\n			\n						\n				\n									  \n*****Du hast diese Veranstaltung als Teilnehmer(in) besucht und möchtest ein Feedback geben? Nutze dafür gern den untenstehenden Fragebogen. Herzlichen Dank! 								\n				\n				\n				\n									\n					\n						\n									Zum Feedback-Fragebogen
URL:https://liebevoll.jetzt/veranstaltung/regionalgruppe-salzburg/
CATEGORIES:Austausch und Begegnung,Lebensfreude,Regionale Veranstaltung
ATTACH;FMTTYPE=image/jpeg:https://liebevoll.jetzt/wp-content/uploads/2025/12/Freudebotschafter_Wald_3.jpg
ORGANIZER;CN="Georg Dygruber%2C Salzburg":MAILTO:georg@freudebotschafter.jetzt
END:VEVENT
END:VCALENDAR