BEGIN:VCALENDAR
VERSION:2.0
PRODID:-//liebevoll.jetzt - ECPv6.15.20//NONSGML v1.0//EN
CALSCALE:GREGORIAN
METHOD:PUBLISH
X-WR-CALNAME:liebevoll.jetzt
X-ORIGINAL-URL:https://liebevoll.jetzt
X-WR-CALDESC:Veranstaltungen für liebevoll.jetzt
REFRESH-INTERVAL;VALUE=DURATION:PT1H
X-Robots-Tag:noindex
X-PUBLISHED-TTL:PT1H
BEGIN:VTIMEZONE
TZID:Europe/Berlin
BEGIN:DAYLIGHT
TZOFFSETFROM:+0100
TZOFFSETTO:+0200
TZNAME:CEST
DTSTART:20240331T010000
END:DAYLIGHT
BEGIN:STANDARD
TZOFFSETFROM:+0200
TZOFFSETTO:+0100
TZNAME:CET
DTSTART:20241027T010000
END:STANDARD
BEGIN:DAYLIGHT
TZOFFSETFROM:+0100
TZOFFSETTO:+0200
TZNAME:CEST
DTSTART:20250330T010000
END:DAYLIGHT
BEGIN:STANDARD
TZOFFSETFROM:+0200
TZOFFSETTO:+0100
TZNAME:CET
DTSTART:20251026T010000
END:STANDARD
BEGIN:DAYLIGHT
TZOFFSETFROM:+0100
TZOFFSETTO:+0200
TZNAME:CEST
DTSTART:20260329T010000
END:DAYLIGHT
BEGIN:STANDARD
TZOFFSETFROM:+0200
TZOFFSETTO:+0100
TZNAME:CET
DTSTART:20261025T010000
END:STANDARD
END:VTIMEZONE
BEGIN:VEVENT
DTSTART;TZID=Europe/Berlin:20251123T110000
DTEND;TZID=Europe/Berlin:20251123T150000
DTSTAMP:20260424T110619
CREATED:20251026T195800Z
LAST-MODIFIED:20260103T201527Z
UID:10003079-1763895600-1763910000@liebevoll.jetzt
SUMMARY:Regionalgruppentreffen Liebevoller Hunsrück jetzt!
DESCRIPTION:Hallo ihr liebevollen Hunsrücker 🌞 \nWir treffen uns wieder vor Ort in Dörth im Café Dhein zum gemeinsamen Frühstück und liebevollen Austausch. Ihr seid herzlich eingeladen dazuzukommen\, wir freuen uns über Herzensmenschen\, die unsere Gruppe kennenlernen und sich mit uns gemeinsam austauschen möchten. \nIch freue mich auf euch! \nWir von liebevoll.jetzt bedanken uns bei Michaela für dieses liebevolle Geschenk und ihr ehrenamtliches Engagement. \n		\n					\n						\n					\n			\n						\n				\n									  \n*****Du hast diese Veranstaltung als Teilnehmer(in) besucht und möchtest ein Feedback geben? Nutze dafür gern den untenstehenden Fragebogen. Herzlichen Dank! 								\n				\n				\n				\n									\n					\n						\n									Zum Feedback-Fragebogen
URL:https://liebevoll.jetzt/veranstaltung/regionalgruppentreffen-liebevoller-hunsrueck-jetzt-2/2025-11-23/
LOCATION:Dörth\, Cafe Dhein\, Trinkbornstraße 11d\, 56281 Dörth\, 56281\, Germany
CATEGORIES:Austausch und Begegnung,Regionale Veranstaltung
ATTACH;FMTTYPE=image/jpeg:https://liebevoll.jetzt/wp-content/uploads/2025/08/IMG-20250810-WA0000-e1758432430605.jpg
ORGANIZER;CN="Michaela Heiles%2C Hunsr%C3%BCck":MAILTO:michaela.heiles@freenet.de
GEO:50.1594427;7.5878433
X-APPLE-STRUCTURED-LOCATION;VALUE=URI;X-ADDRESS=Dörth Cafe Dhein Trinkbornstraße 11d 56281 Dörth 56281 Germany;X-APPLE-RADIUS=500;X-TITLE=Trinkbornstraße 11d:geo:7.5878433,50.1594427
END:VEVENT
END:VCALENDAR