BEGIN:VCALENDAR
VERSION:2.0
PRODID:-//liebevoll.jetzt - ECPv6.15.17.1//NONSGML v1.0//EN
CALSCALE:GREGORIAN
METHOD:PUBLISH
X-WR-CALNAME:liebevoll.jetzt
X-ORIGINAL-URL:https://liebevoll.jetzt
X-WR-CALDESC:Veranstaltungen für liebevoll.jetzt
REFRESH-INTERVAL;VALUE=DURATION:PT1H
X-Robots-Tag:noindex
X-PUBLISHED-TTL:PT1H
BEGIN:VTIMEZONE
TZID:Europe/Berlin
BEGIN:DAYLIGHT
TZOFFSETFROM:+0100
TZOFFSETTO:+0200
TZNAME:CEST
DTSTART:20250330T010000
END:DAYLIGHT
BEGIN:STANDARD
TZOFFSETFROM:+0200
TZOFFSETTO:+0100
TZNAME:CET
DTSTART:20251026T010000
END:STANDARD
BEGIN:DAYLIGHT
TZOFFSETFROM:+0100
TZOFFSETTO:+0200
TZNAME:CEST
DTSTART:20260329T010000
END:DAYLIGHT
BEGIN:STANDARD
TZOFFSETFROM:+0200
TZOFFSETTO:+0100
TZNAME:CET
DTSTART:20261025T010000
END:STANDARD
BEGIN:DAYLIGHT
TZOFFSETFROM:+0100
TZOFFSETTO:+0200
TZNAME:CEST
DTSTART:20270328T010000
END:DAYLIGHT
BEGIN:STANDARD
TZOFFSETFROM:+0200
TZOFFSETTO:+0100
TZNAME:CET
DTSTART:20271031T010000
END:STANDARD
END:VTIMEZONE
BEGIN:VEVENT
DTSTART;TZID=Europe/Berlin:20260313T193000
DTEND;TZID=Europe/Berlin:20260313T200000
DTSTAMP:20260419T173017
CREATED:20260218T141150Z
LAST-MODIFIED:20260218T141150Z
UID:73952-1773430200-1773432000@liebevoll.jetzt
SUMMARY:Tief entspannen mit Monochord-Klängen
DESCRIPTION:Ganz herzliche Einladung zum Klang lauschen!\nSeit Jahrzehnten spiele ich Meditative Klangreisen mit verschiedensten Klanginstrumenten. Meine besondere Liebe gehört dabei den Monochorden. \nIch freue mich darauf\, an diesem Abend für euch zu spielen. Die obertonreichen Klänge des Monochords laden ein zur Rückbesinnung. Das achtsame Lauschen hilft\, Abstand vom Alltag zu gewinnen\, innerlich zur Ruhe zu kommen und Spannungen zu lösen. \nSchön\, wenn Du dabei bist. Mach es dir zu Hause gemütlich\, zünde dir eine Kerze an und (wenn du hast) nutze gern einen Kopfhörer oder Aktivlautsprecher. \nHier sind die Einwahldaten:  https://us04web.zoom.us/j/78431465474?pwd=EgWEUdWd8AJK19eKswvntbRRVvqrXb.1 \n  \nWir von liebevoll.jetzt bedanken uns bei Ulrike für dieses liebevolle Geschenk und ihr ehrenamtliches Engagement. \n		\n					\n						\n					\n			\n						\n				\n									  \n*****Du hast diese Veranstaltung als Teilnehmer(in) besucht und möchtest ein Feedback geben? Nutze dafür gern den untenstehenden Fragebogen. Herzlichen Dank! 								\n				\n				\n				\n									\n					\n						\n									Zum Feedback-Fragebogen
URL:https://liebevoll.jetzt/veranstaltung/tief-entspannen-mit-monochord-klaengen-2/
LOCATION:Online
CATEGORIES:Körper-Selbsterfahrung,Online-Veranstaltung
ATTACH;FMTTYPE=image/jpeg:https://liebevoll.jetzt/wp-content/uploads/2026/02/online-Klang-1.jpg
ORGANIZER;CN="Ulrike Fahlbusch":MAILTO:info@ulrike-fahlbusch.de
END:VEVENT
END:VCALENDAR