BEGIN:VCALENDAR
VERSION:2.0
PRODID:-//liebevoll.jetzt - ECPv6.15.20//NONSGML v1.0//EN
CALSCALE:GREGORIAN
METHOD:PUBLISH
X-WR-CALNAME:liebevoll.jetzt
X-ORIGINAL-URL:https://liebevoll.jetzt
X-WR-CALDESC:Veranstaltungen für liebevoll.jetzt
REFRESH-INTERVAL;VALUE=DURATION:PT1H
X-Robots-Tag:noindex
X-PUBLISHED-TTL:PT1H
BEGIN:VTIMEZONE
TZID:Europe/Berlin
BEGIN:DAYLIGHT
TZOFFSETFROM:+0100
TZOFFSETTO:+0200
TZNAME:CEST
DTSTART:20250330T010000
END:DAYLIGHT
BEGIN:STANDARD
TZOFFSETFROM:+0200
TZOFFSETTO:+0100
TZNAME:CET
DTSTART:20251026T010000
END:STANDARD
BEGIN:DAYLIGHT
TZOFFSETFROM:+0100
TZOFFSETTO:+0200
TZNAME:CEST
DTSTART:20260329T010000
END:DAYLIGHT
BEGIN:STANDARD
TZOFFSETFROM:+0200
TZOFFSETTO:+0100
TZNAME:CET
DTSTART:20261025T010000
END:STANDARD
BEGIN:DAYLIGHT
TZOFFSETFROM:+0100
TZOFFSETTO:+0200
TZNAME:CEST
DTSTART:20270328T010000
END:DAYLIGHT
BEGIN:STANDARD
TZOFFSETFROM:+0200
TZOFFSETTO:+0100
TZNAME:CET
DTSTART:20271031T010000
END:STANDARD
END:VTIMEZONE
BEGIN:VEVENT
DTSTART;TZID=Europe/Berlin:20260506T193000
DTEND;TZID=Europe/Berlin:20260506T203000
DTSTAMP:20260425T221351
CREATED:20251222T102951Z
LAST-MODIFIED:20251222T102951Z
UID:73343-1778095800-1778099400@liebevoll.jetzt
SUMMARY:Trotzdem nehme ich mich an - EFT
DESCRIPTION:Manchmal hat man das Gefühl\, mit dem Rücken zur Wand zu stehen\, keine Wahl zu haben\, dann ist es hilfreich und sinnvoll wieder in einen kohärenten\, handlungsfähigen Zustand zu gelangen. Spätestens wenn du mit einem Kind beim Zahnarzt bist und der Mund zu bleibt weißt du was ich meine 😉 \nEFT ist eine Methode mit der das ganz einfach immer und überall gelingen kann.\n(Emotional freedom technique) \nIn diesem Workshop erkläre ich kurz\, wie ich die Methode in ihrer Wirkung sehe und zeige dir gerne\, wie ich die Methode bei mir selbst\, mit meinen Kindern und Klienten anwende. In einer Gruppe kannst du selbst versuchen und im Anschluss beantworte ich gerne offene Fragen. Du bekommst auch die nötige Zusammenfassung um EFT in dein Leben integrieren zu können. \nDu warst schon bei der Veranstaltung dabei? Komm gerne zum Gruppenteil eine halbe Stunde nach Beginn dazu um aktiv zu klopfen. \nMit diesem Link treffen wir uns bei Zoom: https://us06web.zoom.us/j/81925942501?pwd=RXYrUU1HMzVhNnhkdUdXMGJ0K3UyQT09 \nMeeting-ID: 819 2594 2501\nKenncode: 449809 \n\n\n	\n	\n	\n	\n    \n\n	    \n            JETZT ANMELDEN\n        JETZT ANMELDEN\n    \n        		There were errors with your submission. Please try again.\n		\n        \n\n\n	Tritt jetzt auch bei	\n\n	\n\n				\n\n		\n		\n			\n			\n	\n		\n\n	Dein Vorname:*\n	\n						\n									\n\n\n\n	Dein Nachname:*\n	\n						\n									\n\n\n\n	Deine E-Mail-Adresse:*\n	\n						\n									\n\n\n\n	Hinweis zur Datenschutzerklärung\n	\n					\n				Mit der Anmeldung bestätige ich die Verwendung der Daten gemäß Datenschutzerklärung.\n			\n				Datenschutzerklärung\n	\n							\n\n	\n		\n\n				\n			Address\n			\n				\n				If you are a human\, do not fill in this field \n			\n		\n\n		\n						ANMELDEN\n			\n					\n\n	\n\n\n\n        		\n			Bereits registriert?\n			Bereits registriert? \n\n			\n				Verwenden Sie dieses Tool\, um Ihre Registrierung zu verwalten. \n				\n\n					\n						\n							Geben Sie Ihre registrierte E-Mail-Adresse ein*\n							\n								\n							\n						\n						\n																			\n																	\n				\n			\n		\n			\n\n\n\n————————————————–\nWir von liebevoll.jetzt bedanken uns bei Karoline für dieses liebevolle Geschenk und ihr ehrenamtliches Engagement. \n		\n					\n						\n					\n			\n						\n				\n									  \n*****Du hast diese Veranstaltung als Teilnehmer(in) besucht und möchtest ein Feedback geben? Nutze dafür gern den untenstehenden Fragebogen. Herzlichen Dank! 								\n				\n				\n				\n									\n					\n						\n									Zum Feedback-Fragebogen
URL:https://liebevoll.jetzt/veranstaltung/trotzdem-nehme-ich-mich-an-eft-2/
CATEGORIES:Achtsame Selbsterfahrung,Austausch und Begegnung,Online-Veranstaltung
ATTACH;FMTTYPE=image/jpeg:https://liebevoll.jetzt/wp-content/uploads/2023/03/girl-g20d339c93_640.jpg
ORGANIZER;CN="Karoline Hinterreither":MAILTO:karoline@hinterreither.at
END:VEVENT
END:VCALENDAR