BEGIN:VCALENDAR
VERSION:2.0
PRODID:-//liebevoll.jetzt - ECPv6.15.20//NONSGML v1.0//EN
CALSCALE:GREGORIAN
METHOD:PUBLISH
X-ORIGINAL-URL:https://liebevoll.jetzt
X-WR-CALDESC:Veranstaltungen für liebevoll.jetzt
REFRESH-INTERVAL;VALUE=DURATION:PT1H
X-Robots-Tag:noindex
X-PUBLISHED-TTL:PT1H
BEGIN:VTIMEZONE
TZID:Europe/Berlin
BEGIN:DAYLIGHT
TZOFFSETFROM:+0100
TZOFFSETTO:+0200
TZNAME:CEST
DTSTART:20250330T010000
END:DAYLIGHT
BEGIN:STANDARD
TZOFFSETFROM:+0200
TZOFFSETTO:+0100
TZNAME:CET
DTSTART:20251026T010000
END:STANDARD
BEGIN:DAYLIGHT
TZOFFSETFROM:+0100
TZOFFSETTO:+0200
TZNAME:CEST
DTSTART:20260329T010000
END:DAYLIGHT
BEGIN:STANDARD
TZOFFSETFROM:+0200
TZOFFSETTO:+0100
TZNAME:CET
DTSTART:20261025T010000
END:STANDARD
BEGIN:DAYLIGHT
TZOFFSETFROM:+0100
TZOFFSETTO:+0200
TZNAME:CEST
DTSTART:20270328T010000
END:DAYLIGHT
BEGIN:STANDARD
TZOFFSETFROM:+0200
TZOFFSETTO:+0100
TZNAME:CET
DTSTART:20271031T010000
END:STANDARD
END:VTIMEZONE
BEGIN:VEVENT
DTSTART;TZID=Europe/Berlin:20260503T103000
DTEND;TZID=Europe/Berlin:20260503T120000
DTSTAMP:20260424T131655
CREATED:20240315T153637Z
LAST-MODIFIED:20260218T153310Z
UID:10003588-1777804200-1777809600@liebevoll.jetzt
SUMMARY:Online-Café mit Beatrice
DESCRIPTION:Herzlich willkommen in unserem Online-Café! Schön\, dass DU hier bist! \n\n\nWir – Erika\, Kerstin\, Matthias und Beatrice – möchten gemeinsam mit DIR in einen inspirierenden Austausch und eine echte Begegnung treten. Dieser Raum ist geschaffen\, um sich zu zeigen\, ohne bewertet zu werden – ein Ort\, an dem echtes Zuhören\, stille Erkenntnisse und herzliche Lacher ihren Platz haben. \nWas uns verbindet\, ist die Sehnsucht nach einem liebevollen Umgang – mit uns selbst und im Miteinander. Hier nehmen wir uns bewusst Zeit\, um Fragen zu stellen\, die in unsere Innenwelt führen\, und um unser Miteinander auf eine tiefere Ebene zu bringen. \nWenn du Lust hast\, Gleichgesinnte kennenzulernen und dich in einem warmherzigen Austausch einzubringen\, bist du hier genau richtig.  Nach einer kurzen Begrüßung erfolgt die Einteilung in kleine Breakout-Gruppen mit 3 bis 5 Personen. Dort hast du die Gelegenheit\, dich mit einer von uns gestellten Frage intensiver auseinanderzusetzen. Nach etwa 20-30 Minuten werden die Gruppen neu gemischt\, sodass du die Chance hast\, weitere spannende Menschen kennenzulernen und dich erneut auszutauschen. \nLass dich auf das ein\, was in DIR mitschwingt – du musst nichts leisten\, nichts beweisen. Nur da sein. Und ehrlich mit dir selbst sein! \nUns ist wichtig\, dass niemand zu einem Objekt seiner eigenen Belehrungen oder Beratungen gemacht wird. Wir wünschen uns\, dass alle Teilnehmenden achtsam miteinander umgehen und aufeinander achten. 😊 \n\n\n\n\nIch freue mich auf DICH! \nBeatrice \nMöchtest du dabei sein? Dann freuen wir uns auf deine Anmeldung\, mit der du den Zoom-Link direkt per E-Mail bekommst. Bitte beachte\, dass nach Beginn der Veranstaltung keine Anmeldung mehr möglich ist. \n \nRückmeldungen der Teilnehmer: \n\nIch möchte mich mal wieder dafür bedanken\, dass wir/ich diese Möglichkeit des tiefen Austauschs haben. Wie meist war das Online-Cafe und auch der Mittwochs-Austausch mit Beatrice so sehr er- und aufbauend. Die Fragen/Themen\, mit denen wir eingeladen sind uns zu beschäftigen gehen\, wie auch heute\, sehr tief. Die Impulse\, welche von den Teilnehmern kommen\, unser gegenseitiges „Sehen“ schafft Raum für Verbundenheit. Alles darf sein\, nichts muß. Es entsteht immer wieder ein stückweit mehr gefühltes Vertrauen sich damit so zu zeigen was grad in einem ist. Ein von Herzen kommendes „DANKE“\, auch an Erika und Kerstin für diesen wertvollen Raum\, den Ihr uns schenkt und DANKE an alle Teilnehmer\, die diesen Raum liebevoll nutzen. Gitte\n\n\n\nWir von liebevoll.jetzt bedanken uns bei Beatrice für dieses liebevolle Geschenk und ihr ehrenamtliches Engagement. \n		\n					\n						\n					\n			\n						\n				\n									  \n*****Du hast diese Veranstaltung als Teilnehmer(in) besucht und möchtest ein Feedback geben? Nutze dafür gern den untenstehenden Fragebogen. Herzlichen Dank! 								\n				\n				\n				\n									\n					\n						\n									Zum Feedback-Fragebogen
URL:https://liebevoll.jetzt/veranstaltung/austausch-und-begegnung-im-online-cafe-mit-beatrice-10/2026-05-03/
LOCATION:Online
CATEGORIES:Achtsame Selbsterfahrung,Austausch und Begegnung,Lebensfreude,Online Treffen,Online-Café,Online-Veranstaltung
ATTACH;FMTTYPE=image/jpeg:https://liebevoll.jetzt/wp-content/uploads/2026/02/WhatsApp-Image-2026-02-18-at-14.58.53.jpeg
ORGANIZER;CN="Beatrice Durot":MAILTO:b.durot@sunrise.ch
END:VEVENT
BEGIN:VEVENT
DTSTART;TZID=Europe/Berlin:20260517T103000
DTEND;TZID=Europe/Berlin:20260517T120000
DTSTAMP:20260424T131655
CREATED:20240315T153637Z
LAST-MODIFIED:20260218T153310Z
UID:10003111-1779013800-1779019200@liebevoll.jetzt
SUMMARY:Online-Café mit Beatrice
DESCRIPTION:Herzlich willkommen in unserem Online-Café! Schön\, dass DU hier bist! \n\n\nWir – Erika\, Kerstin\, Matthias und Beatrice – möchten gemeinsam mit DIR in einen inspirierenden Austausch und eine echte Begegnung treten. Dieser Raum ist geschaffen\, um sich zu zeigen\, ohne bewertet zu werden – ein Ort\, an dem echtes Zuhören\, stille Erkenntnisse und herzliche Lacher ihren Platz haben. \nWas uns verbindet\, ist die Sehnsucht nach einem liebevollen Umgang – mit uns selbst und im Miteinander. Hier nehmen wir uns bewusst Zeit\, um Fragen zu stellen\, die in unsere Innenwelt führen\, und um unser Miteinander auf eine tiefere Ebene zu bringen. \nWenn du Lust hast\, Gleichgesinnte kennenzulernen und dich in einem warmherzigen Austausch einzubringen\, bist du hier genau richtig.  Nach einer kurzen Begrüßung erfolgt die Einteilung in kleine Breakout-Gruppen mit 3 bis 5 Personen. Dort hast du die Gelegenheit\, dich mit einer von uns gestellten Frage intensiver auseinanderzusetzen. Nach etwa 20-30 Minuten werden die Gruppen neu gemischt\, sodass du die Chance hast\, weitere spannende Menschen kennenzulernen und dich erneut auszutauschen. \nLass dich auf das ein\, was in DIR mitschwingt – du musst nichts leisten\, nichts beweisen. Nur da sein. Und ehrlich mit dir selbst sein! \nUns ist wichtig\, dass niemand zu einem Objekt seiner eigenen Belehrungen oder Beratungen gemacht wird. Wir wünschen uns\, dass alle Teilnehmenden achtsam miteinander umgehen und aufeinander achten. 😊 \n\n\n\n\nIch freue mich auf DICH! \nBeatrice \nMöchtest du dabei sein? Dann freuen wir uns auf deine Anmeldung\, mit der du den Zoom-Link direkt per E-Mail bekommst. Bitte beachte\, dass nach Beginn der Veranstaltung keine Anmeldung mehr möglich ist. \n \nRückmeldungen der Teilnehmer: \n\nIch möchte mich mal wieder dafür bedanken\, dass wir/ich diese Möglichkeit des tiefen Austauschs haben. Wie meist war das Online-Cafe und auch der Mittwochs-Austausch mit Beatrice so sehr er- und aufbauend. Die Fragen/Themen\, mit denen wir eingeladen sind uns zu beschäftigen gehen\, wie auch heute\, sehr tief. Die Impulse\, welche von den Teilnehmern kommen\, unser gegenseitiges „Sehen“ schafft Raum für Verbundenheit. Alles darf sein\, nichts muß. Es entsteht immer wieder ein stückweit mehr gefühltes Vertrauen sich damit so zu zeigen was grad in einem ist. Ein von Herzen kommendes „DANKE“\, auch an Erika und Kerstin für diesen wertvollen Raum\, den Ihr uns schenkt und DANKE an alle Teilnehmer\, die diesen Raum liebevoll nutzen. Gitte\n\n\n\nWir von liebevoll.jetzt bedanken uns bei Beatrice für dieses liebevolle Geschenk und ihr ehrenamtliches Engagement. \n		\n					\n						\n					\n			\n						\n				\n									  \n*****Du hast diese Veranstaltung als Teilnehmer(in) besucht und möchtest ein Feedback geben? Nutze dafür gern den untenstehenden Fragebogen. Herzlichen Dank! 								\n				\n				\n				\n									\n					\n						\n									Zum Feedback-Fragebogen
URL:https://liebevoll.jetzt/veranstaltung/austausch-und-begegnung-im-online-cafe-mit-beatrice-10/2026-05-17/
LOCATION:Online
CATEGORIES:Achtsame Selbsterfahrung,Austausch und Begegnung,Lebensfreude,Online Treffen,Online-Café,Online-Veranstaltung
ATTACH;FMTTYPE=image/jpeg:https://liebevoll.jetzt/wp-content/uploads/2026/02/WhatsApp-Image-2026-02-18-at-14.58.53.jpeg
ORGANIZER;CN="Beatrice Durot":MAILTO:b.durot@sunrise.ch
END:VEVENT
BEGIN:VEVENT
DTSTART;TZID=Europe/Berlin:20260628T103000
DTEND;TZID=Europe/Berlin:20260628T120000
DTSTAMP:20260424T131655
CREATED:20240315T153637Z
LAST-MODIFIED:20260218T153310Z
UID:10003112-1782642600-1782648000@liebevoll.jetzt
SUMMARY:Online-Café mit Beatrice
DESCRIPTION:Herzlich willkommen in unserem Online-Café! Schön\, dass DU hier bist! \n\n\nWir – Erika\, Kerstin\, Matthias und Beatrice – möchten gemeinsam mit DIR in einen inspirierenden Austausch und eine echte Begegnung treten. Dieser Raum ist geschaffen\, um sich zu zeigen\, ohne bewertet zu werden – ein Ort\, an dem echtes Zuhören\, stille Erkenntnisse und herzliche Lacher ihren Platz haben. \nWas uns verbindet\, ist die Sehnsucht nach einem liebevollen Umgang – mit uns selbst und im Miteinander. Hier nehmen wir uns bewusst Zeit\, um Fragen zu stellen\, die in unsere Innenwelt führen\, und um unser Miteinander auf eine tiefere Ebene zu bringen. \nWenn du Lust hast\, Gleichgesinnte kennenzulernen und dich in einem warmherzigen Austausch einzubringen\, bist du hier genau richtig.  Nach einer kurzen Begrüßung erfolgt die Einteilung in kleine Breakout-Gruppen mit 3 bis 5 Personen. Dort hast du die Gelegenheit\, dich mit einer von uns gestellten Frage intensiver auseinanderzusetzen. Nach etwa 20-30 Minuten werden die Gruppen neu gemischt\, sodass du die Chance hast\, weitere spannende Menschen kennenzulernen und dich erneut auszutauschen. \nLass dich auf das ein\, was in DIR mitschwingt – du musst nichts leisten\, nichts beweisen. Nur da sein. Und ehrlich mit dir selbst sein! \nUns ist wichtig\, dass niemand zu einem Objekt seiner eigenen Belehrungen oder Beratungen gemacht wird. Wir wünschen uns\, dass alle Teilnehmenden achtsam miteinander umgehen und aufeinander achten. 😊 \n\n\n\n\nIch freue mich auf DICH! \nBeatrice \nMöchtest du dabei sein? Dann freuen wir uns auf deine Anmeldung\, mit der du den Zoom-Link direkt per E-Mail bekommst. Bitte beachte\, dass nach Beginn der Veranstaltung keine Anmeldung mehr möglich ist. \n \nRückmeldungen der Teilnehmer: \n\nIch möchte mich mal wieder dafür bedanken\, dass wir/ich diese Möglichkeit des tiefen Austauschs haben. Wie meist war das Online-Cafe und auch der Mittwochs-Austausch mit Beatrice so sehr er- und aufbauend. Die Fragen/Themen\, mit denen wir eingeladen sind uns zu beschäftigen gehen\, wie auch heute\, sehr tief. Die Impulse\, welche von den Teilnehmern kommen\, unser gegenseitiges „Sehen“ schafft Raum für Verbundenheit. Alles darf sein\, nichts muß. Es entsteht immer wieder ein stückweit mehr gefühltes Vertrauen sich damit so zu zeigen was grad in einem ist. Ein von Herzen kommendes „DANKE“\, auch an Erika und Kerstin für diesen wertvollen Raum\, den Ihr uns schenkt und DANKE an alle Teilnehmer\, die diesen Raum liebevoll nutzen. Gitte\n\n\n\nWir von liebevoll.jetzt bedanken uns bei Beatrice für dieses liebevolle Geschenk und ihr ehrenamtliches Engagement. \n		\n					\n						\n					\n			\n						\n				\n									  \n*****Du hast diese Veranstaltung als Teilnehmer(in) besucht und möchtest ein Feedback geben? Nutze dafür gern den untenstehenden Fragebogen. Herzlichen Dank! 								\n				\n				\n				\n									\n					\n						\n									Zum Feedback-Fragebogen
URL:https://liebevoll.jetzt/veranstaltung/austausch-und-begegnung-im-online-cafe-mit-beatrice-10/2026-06-28/
LOCATION:Online
CATEGORIES:Achtsame Selbsterfahrung,Austausch und Begegnung,Lebensfreude,Online Treffen,Online-Café,Online-Veranstaltung
ATTACH;FMTTYPE=image/jpeg:https://liebevoll.jetzt/wp-content/uploads/2026/02/WhatsApp-Image-2026-02-18-at-14.58.53.jpeg
ORGANIZER;CN="Beatrice Durot":MAILTO:b.durot@sunrise.ch
END:VEVENT
END:VCALENDAR