BEGIN:VCALENDAR
VERSION:2.0
PRODID:-//liebevoll.jetzt - ECPv6.15.17.1//NONSGML v1.0//EN
CALSCALE:GREGORIAN
METHOD:PUBLISH
X-WR-CALNAME:liebevoll.jetzt
X-ORIGINAL-URL:https://liebevoll.jetzt
X-WR-CALDESC:Veranstaltungen für liebevoll.jetzt
REFRESH-INTERVAL;VALUE=DURATION:PT1H
X-Robots-Tag:noindex
X-PUBLISHED-TTL:PT1H
BEGIN:VTIMEZONE
TZID:Europe/Berlin
BEGIN:DAYLIGHT
TZOFFSETFROM:+0100
TZOFFSETTO:+0200
TZNAME:CEST
DTSTART:20250330T010000
END:DAYLIGHT
BEGIN:STANDARD
TZOFFSETFROM:+0200
TZOFFSETTO:+0100
TZNAME:CET
DTSTART:20251026T010000
END:STANDARD
BEGIN:DAYLIGHT
TZOFFSETFROM:+0100
TZOFFSETTO:+0200
TZNAME:CEST
DTSTART:20260329T010000
END:DAYLIGHT
BEGIN:STANDARD
TZOFFSETFROM:+0200
TZOFFSETTO:+0100
TZNAME:CET
DTSTART:20261025T010000
END:STANDARD
BEGIN:DAYLIGHT
TZOFFSETFROM:+0100
TZOFFSETTO:+0200
TZNAME:CEST
DTSTART:20270328T010000
END:DAYLIGHT
BEGIN:STANDARD
TZOFFSETFROM:+0200
TZOFFSETTO:+0100
TZNAME:CET
DTSTART:20271031T010000
END:STANDARD
END:VTIMEZONE
BEGIN:VEVENT
DTSTART;TZID=Europe/Berlin:20260421T080000
DTEND;TZID=Europe/Berlin:20260421T084500
DTSTAMP:20260421T112555
CREATED:20260407T083748Z
LAST-MODIFIED:20260407T180320Z
UID:10005588-1776758400-1776761100@liebevoll.jetzt
SUMMARY:Qigong am Morgen
DESCRIPTION:Mit einem Morgenritual aus uralten Übungen des Qigong und dem Herzqigong \nImmer am Dienstag von 8.00 Uhr bis ca. 8.45 Uhr \nEgal\, wo ihr gerade seit auf diesem herrlichen Planeten könnt ihr online teilnehmen. \n\nDer Organfunktionskreis Feuer ist dem Herzen zugeordnet und wird durch Herz Qigong Übungen gezielt beeinflusst.\nDie Herz Qigong Übungen wirken auch auf den Organfunktionskreis Wasser\, der den Nieren zugeordnet ist.\nDie Übungen lassen die Meridiane durchlässiger werden\, beseitigen Blockaden des Qi und können Körper wie Geist ins Gleichgewicht bringen durch eine Förderung der Harmonie von Yin und Yang.\nDie Herzenergie kann harmonisch fließen.\nEs soll nur so viel geübt werden wie nötig.\nDer Herzkreislauf wird angeregt und sanft trainiert.\nDie Herz Übungen im Qigong kultivieren die Herzenergie.\nDer Herzraum wird mit Lebensenergie gefüllt.\nWenn der Herzkreislauf gut arbeitet\, dann macht sich dies bemerkbar in einer inneren Leichtigkeit und dem Gefühl eines geweiteten Brustkorbes…\n\n… und kann sich in ein heilendes Morgenritual verwandeln … \nZoom-Link: \nhttps://us02web.zoom.us/j/87074978756?pwd=WmqTKrliYzaabi1pwFh1ahPa7biEfb.1 \nMeeting-ID: 870 7497 8756 \nKenncode: 510922 \nbeateweikert.de  \n  \nWir von liebevoll.jetzt bedanken uns bei Beate für dieses liebevolle Geschenk und ihr ehrenamtliches Engagement. \n		\n					\n						\n					\n			\n						\n				\n									  \n*****Du hast diese Veranstaltung als Teilnehmer(in) besucht und möchtest ein Feedback geben? Nutze dafür gern den untenstehenden Fragebogen. Herzlichen Dank! 								\n				\n				\n				\n									\n					\n						\n									Zum Feedback-Fragebogen\n					\n					\n				\n								\n				\n					\n		\n					\n		\n				\n		\n 
URL:https://liebevoll.jetzt/veranstaltung/qigong-am-morgen-2-2/2026-04-21/
LOCATION:Online
CATEGORIES:Online-Veranstaltung,Workshop
ATTACH;FMTTYPE=image/jpeg:https://liebevoll.jetzt/wp-content/uploads/2025/09/yin-yang-7484632_1280.jpg
ORGANIZER;CN="Beate Weikert":MAILTO:beate.weikert@gmail.com
END:VEVENT
BEGIN:VEVENT
DTSTART;TZID=Europe/Berlin:20260421T190000
DTEND;TZID=Europe/Berlin:20260421T195000
DTSTAMP:20260421T112555
CREATED:20260308T105201Z
LAST-MODIFIED:20260313T162242Z
UID:10004973-1776798000-1776801000@liebevoll.jetzt
SUMMARY:Spiegelarbeit – Resonanzraum
DESCRIPTION:Dieser Kurs ist ein strukturierter Raum für Selbstreflexion.\nDurch Fragen\, kurze Impulse und Perspektivwechsel entsteht ein Spiegelraum\, in dem Teilnehmer ihre eigenen Denk-\, Wahrnehmungs- und Handlungsmuster erkennen können. \nDer Kurs arbeitet mit sogenannten Spiegelimpulsen – kleinen gedanklichen Experimenten\, die helfen können\, sich selbst besser zu verstehen. \nDer Kurs läuft fortlaufend in Zyklen. Ein Einstieg ist jederzeit möglich. Nach mehreren Wochen beginnt der Themenkreis wieder von vorn\, sodass neue Teilnehmer jederzeit teilnehmen können. \nDer Kurs bietet: \n• kurze Reflexionsimpulse\n• Perspektivwechsel\n• Fragen zur Selbstwahrnehmung\n• Themen aus Psychologie\, Alltag und menschlicher Entwicklung \nEs geht nicht um schnelle Lösungen oder Coachingmethoden.\nDer Kurs lädt dazu ein\, sich selbst im Denken\, Fühlen und Handeln zu beobachten und darüber in Austausch zu kommen. \nViele Teilnehmer erleben dabei: \n• mehr Klarheit über eigene Reaktionen\n• eine differenziertere Selbstwahrnehmung\n• bewusstere Entscheidungen im Alltag \nStruktur: \nDer Kurs besteht aus einzelnen Spiegelimpulsen\, zum Beispiel: \n• Eigenschaften & Werte\n• Authentizität\n• Selbstverantwortung\n• Projektion & Wahrnehmung\n• Rollen & Kontexte\n• Umfeld als Entwicklungsraum \nJede Einheit enthält: \n• einen kurzen Gedankenimpuls\n• eine Einordnung des Themas\n• Resonanzfragen zur Selbstreflexion \nDer Kurs funktioniert wie ein fortlaufender Denk- und Resonanzraum. \nMöchtest du dabei sein? Ich freue mich auf deine Anmeldung. Den Zoom-Link zur Veranstaltung bekommst du dann direkt per E-Mail. Bitte beachte\, dass nach Beginn der Veranstaltung keine Anmeldung mehr möglich ist. \n \n  \nWir von liebevoll.jetzt bedanken uns bei Marion für dieses liebevolle Geschenk und ihr ehrenamtliches Engagement. \n		\n					\n						\n					\n			\n						\n				\n									  \n*****Du hast diese Veranstaltung als Teilnehmer(in) besucht und möchtest ein Feedback geben? Nutze dafür gern den untenstehenden Fragebogen. Herzlichen Dank! 								\n				\n				\n				\n									\n					\n						\n									Zum Feedback-Fragebogen
URL:https://liebevoll.jetzt/veranstaltung/spiegelarbeit-resonanzraum/2026-04-21/
LOCATION:Online
CATEGORIES:Achtsame Selbsterfahrung,Online-Veranstaltung
ATTACH;FMTTYPE=image/png:https://liebevoll.jetzt/wp-content/uploads/2026/03/Spiegelarbeit-Resonanzraum.png
ORGANIZER;CN="Marion Koziol":MAILTO:Marion.Koziol@web.de
END:VEVENT
BEGIN:VEVENT
DTSTART;TZID=Europe/Berlin:20260421T200000
DTEND;TZID=Europe/Berlin:20260421T205000
DTSTAMP:20260421T112555
CREATED:20260308T110644Z
LAST-MODIFIED:20260313T162914Z
UID:10005233-1776801600-1776804600@liebevoll.jetzt
SUMMARY:Inselraum - Architektur Mensch-Sein
DESCRIPTION:Dieser Kurs beschäftigt sich mit einer grundlegenden Frage: Wie funktioniert menschliches Denken\, Wahrnehmen und Handeln?\nDer Kurs betrachtet den Menschen aus verschiedenen Perspektiven:\n• biologisch\n• psychologisch\n• sozial\n• philosophisch \nDabei entsteht eine Art Landkarte des Menschseins\, die helfen kann\, eigene Erfahrungen besser zu verstehen und einzuordnen. \nDer Kurs verbindet Perspektiven aus: \n• Psychologie\n• Neurowissenschaft\n• Philosophie\n• Erfahrungswissen \nTeilnehmer erkunden unter anderem: \n• wie Wahrnehmung entsteht\n• wie Denken strukturiert ist\n• wie Emotionen Verhalten beeinflussen\n• wie Beziehungen wirken\n• wie persönliche Entwicklung möglich wird \nDer Kurs versteht sich nicht als Coachingprogramm\, sondern als Raum zum gemeinsamen Verstehen menschlicher Entwicklung. Er lädt zum Mitmachen und Austauschen ein. \nStruktur\nDer Kurs ist thematisch aufgebaut und führt Schritt für Schritt durch zentrale Bereiche des Menschseins in Form von „Inselraum“\nGrundlagen \n• Wahrnehmung\n• Denken\n• Emotionen\n• Entscheidungen \nSelbst und Identität \n• Selbstbild\n• Rollen\n• Werte\n• Entwicklung \nBeziehungen \n• Resonanz\n• Kommunikation\n• Konflikt\n• Projektion \nEntwicklung \n• Lernen\n• Veränderung\n• Verantwortung\n• Handlungsspielräume \nJede Einheit enthält: \n• eine verständliche Einführung\n• Abgrenzung und Zugänge\n• Reflexionsfragen \nMöchtest du dabei sein? Ich freue mich auf deine Anmeldung. Den Zoom-Link zur Veranstaltung bekommst du dann direkt per E-Mail. Bitte beachte\, dass nach Beginn der Veranstaltung keine Anmeldung mehr möglich ist. \n \n  \nWir von liebevoll.jetzt bedanken uns bei Marion für dieses liebevolle Geschenk und ihr ehrenamtliches Engagement. \n		\n					\n						\n					\n			\n						\n				\n									  \n*****Du hast diese Veranstaltung als Teilnehmer(in) besucht und möchtest ein Feedback geben? Nutze dafür gern den untenstehenden Fragebogen. Herzlichen Dank! 								\n				\n				\n				\n									\n					\n						\n									Zum Feedback-Fragebogen
URL:https://liebevoll.jetzt/veranstaltung/inselraum-architektur-mensch-sein/2026-04-21/
LOCATION:Online
CATEGORIES:Achtsame Selbsterfahrung,Online-Veranstaltung
ATTACH;FMTTYPE=image/jpeg:https://liebevoll.jetzt/wp-content/uploads/2026/03/Meer.jpg
ORGANIZER;CN="Marion Koziol":MAILTO:Marion.Koziol@web.de
END:VEVENT
END:VCALENDAR