BEGIN:VCALENDAR
VERSION:2.0
PRODID:-//liebevoll.jetzt - ECPv6.15.17.1//NONSGML v1.0//EN
CALSCALE:GREGORIAN
METHOD:PUBLISH
X-WR-CALNAME:liebevoll.jetzt
X-ORIGINAL-URL:https://liebevoll.jetzt
X-WR-CALDESC:Veranstaltungen für liebevoll.jetzt
REFRESH-INTERVAL;VALUE=DURATION:PT1H
X-Robots-Tag:noindex
X-PUBLISHED-TTL:PT1H
BEGIN:VTIMEZONE
TZID:Europe/Berlin
BEGIN:DAYLIGHT
TZOFFSETFROM:+0100
TZOFFSETTO:+0200
TZNAME:CEST
DTSTART:20250330T010000
END:DAYLIGHT
BEGIN:STANDARD
TZOFFSETFROM:+0200
TZOFFSETTO:+0100
TZNAME:CET
DTSTART:20251026T010000
END:STANDARD
BEGIN:DAYLIGHT
TZOFFSETFROM:+0100
TZOFFSETTO:+0200
TZNAME:CEST
DTSTART:20260329T010000
END:DAYLIGHT
BEGIN:STANDARD
TZOFFSETFROM:+0200
TZOFFSETTO:+0100
TZNAME:CET
DTSTART:20261025T010000
END:STANDARD
BEGIN:DAYLIGHT
TZOFFSETFROM:+0100
TZOFFSETTO:+0200
TZNAME:CEST
DTSTART:20270328T010000
END:DAYLIGHT
BEGIN:STANDARD
TZOFFSETFROM:+0200
TZOFFSETTO:+0100
TZNAME:CET
DTSTART:20271031T010000
END:STANDARD
END:VTIMEZONE
BEGIN:VEVENT
DTSTART;TZID=Europe/Berlin:20260422T090000
DTEND;TZID=Europe/Berlin:20260422T094500
DTSTAMP:20260422T021147
CREATED:20260325T082842Z
LAST-MODIFIED:20260401T203033Z
UID:10004948-1776848400-1776851100@liebevoll.jetzt
SUMMARY:Deine Klanginsel am Morgen
DESCRIPTION:✨ Meine Klangreisen – eine liebevolle Berührung für Herz und Seele ✨ \nStell dir vor\, du tauchst ein in sanfte Klänge\, die dich umhüllen\, beruhigen und tief berühren. Jeder Ton einer Klangschale ist wie eine kleine Botschaft an dein Herz: Du bist wertvoll. Du darfst dich spüren. Du darfst leicht sein. \nIn meinen Klangreisen entsteht ein Raum nur für dich – ein Moment des Ankommens\, Loslassens und inneren Aufatmens. Die Schwingungen öffnen Türen zu Ruhe\, Geborgenheit und Freude\, die schon lange in dir darauf warten\, wieder aufzuleuchten. \nFür ein noch intensiveres Erlebnis empfehle ich\, Kopfhörer zu nutzen – so kannst du die Klänge voll und ganz genießen\, als würden sie direkt bei dir im Raum erklingen. \nSpüre die Wärme\, die dich umgibt\, lass dich tragen von den Klängen und finde zu dir selbst zurück. Gönn dir diese Zeit für dein Herz und deine Seele – du verdienst es\, dich gut zu fühlen. \n💛 Komm vorbei\, lass dich berühren und entdecke die Magie der Klangreise. Dein Herz wird es dir danken. \nNada Brahma – Alles ist Klang. \nMöchtestdu dabei sein? Dann freue ich mich auf deine Anmeldung\, mit der du den Zoom-Link direkt per E-Mail bekommst. Bitte beachte\, dass nach Beginn der Veranstaltung keine Anmeldung mehr möglich ist. \n\n		\n					\n						\n					\n			\n						\n				\n									  \n*****Du hast diese Veranstaltung als Teilnehmer(in) besucht und möchtest ein Feedback geben? Nutze dafür gern den untenstehenden Fragebogen. Herzlichen Dank! 								\n				\n				\n				\n									\n					\n						\n									Zum Feedback-Fragebogen\n					\n					\n				\n								\n				\n					\n		\n					\n		\n				\n		\nDas Interview mit Beatrice findest du hier bei uns auf Youtube. \n \nTeilnehmer-Feedbacks: \n  \n\nIch kann entspannen\, genießen\, träumen und fühle mich danach seelig-zufrieden-glücklich.\nEin sehr gelungenes Klangerlebnis\, das mich völlig umschlossen und auf eine wunderschöne Reise meiner Seele in neue Gefilde begleitet hat. Sehr zu empfehlen\, ich werde weiter dabei sein! Vielen herzlichen Dank!!!\nIch freue mich über jede Klanginsel schon im Voraus. Die ruhige liebevolle Stimme von Beatrice trägt mich in die Phantasiereise\, die mich sehr ruhig und entspannt werden lässt. Beatrice lässt sich immer vielfältige neue Themen einfallen\, die in den nachfolgenden Tagen noch nachklingen dürfen. Ich freue mich sehr diese Veranstaltungen genießen zu dürfen.\nMich haben als Kind auch die Kirchenglocken so berührt\, aber ich habe es wieder vergessen und dann kam die liebe Beatrice und hat mich und meine Seele mitgenommen und mir die Welt des Klanges gezeigt und mich damit tief berührt und mit dem Klang in mir und im Außen verbunden.\nDie Klangschalen von Beatrice haben mich verzaubert\, als ich vor ca. 1 Jahr völlig durch den Wind und zu spät in ihre Klangmeditation hineingeplatzt bin. Es war eine magische Reise ins  All. Und die Klänge und Beatrice haben mich gleichermaßen verzaubert.\nLiebe Beatrice\, es ist soooo schön Dir und Deinen Klängen zuzuhören. Herzlichen Dank für Dein Engagement.\n\n  \nWir von liebevoll.jetzt bedanken uns bei Beatrice für dieses liebevolle Geschenk und ihr ehrenamtliches Engagement. \n		\n					\n						\n					\n			\n						\n				\n									  \n*****Du hast diese Veranstaltung als Teilnehmer(in) besucht und möchtest ein Feedback geben? Nutze dafür gern den untenstehenden Fragebogen. Herzlichen Dank! 								\n				\n				\n				\n									\n					\n						\n									Zum Feedback-Fragebogen
URL:https://liebevoll.jetzt/veranstaltung/deine-klanginsel-am-morgen-2/2026-04-22/
CATEGORIES:Achtsame Selbsterfahrung,Körper-Selbsterfahrung,Lebensfreude,Online Treffen,Online-Meditation,Online-Veranstaltung,Zuhören
ATTACH;FMTTYPE=image/png:https://liebevoll.jetzt/wp-content/uploads/2025/01/bild2-1024x518-3.png
ORGANIZER;CN="Beatrice Durot":MAILTO:b.durot@sunrise.ch
END:VEVENT
BEGIN:VEVENT
DTSTART;TZID=Europe/Berlin:20260422T100000
DTEND;TZID=Europe/Berlin:20260422T103000
DTSTAMP:20260422T021148
CREATED:20260212T133820Z
LAST-MODIFIED:20260309T192510Z
UID:10004750-1776852000-1776853800@liebevoll.jetzt
SUMMARY:ESPRESSO
DESCRIPTION:ESPRESSO – Steht für Entwicklung und leise Reflexion.\nDer Mond verändert seine Gestalt und bleibt sich doch treu. Er erinnert daran\, dass Entwicklung ein natürlicher Prozess ist.\n„Wer einen Nordstern hat\, braucht ihn nicht zu suchen.“ Orientierung entsteht im Inneren.\nLa LUNE weist darauf hin\, dass Werte sich wandeln\, wachsen und entfalten dürfen. Regeln geben Kontinuität und sichern den Rahmen. Die Weite des Lebens eröffnet Entwicklung und Reifung. \nESPRESSO – ist ein Raum\, in dem Zeit\, Worte und Gedanken Resonanz finden. Ein Raum ohne Druck\, ohne Zielvorgaben – getragen von echter Begegnung. \nHier kannst du einsteigen\, lauschen und dich einbringen. Gedanken werden geteilt\, Werte bewegt\, Perspektiven erweitert. Die Mitte kommt in Interaktion – aus sich selbst heraus. \nWir sprechen über das Leben im Hier und Jetzt. Über das\, was uns bewegt und trägt. Impulse dürfen entstehen oder weiterziehen. \nEin Gedanke darf hier als Gedanke betrachtet werden – als etwas\, das wir gemeinsam anschauen\, drehen und beleuchten. In dem Moment\, in dem Gedanken als Objekte gesehen werden\, verlieren sie ihren Absolutheitsanspruch. Das Subjekt bleibt frei. Genau dort beginnt echte Interaktion: im gemeinsamen Erhellen\, nicht im Verteidigen. \nDu kannst genießen\, aufnehmen\, mitnehmen – oder stehen lassen. Was bleibt\, wirkt vielleicht wie ein Leuchtturm\, ein stiller Impuls oder ein Grundstein im Inneren. \nMit Menschen sprechen – nicht über sie. Für Austausch\, der weitet\, inspiriert und berührt. \n──────────── \nZur Veranstaltung gibt es eine Signal-Gruppe.\nWenn du dabei sein möchtest\, sende mir gerne deine Telefonnummer an:\nLiebeVollJetzt@MBAUER-ing.de \nAlternativ findest du mich auf Signal unter dem Namen: Matthias.12807 \nIch freue mich auf die Begegnung.\nMatthias \n  \n──────────\nEs gilt Privatheit ist geschützt. Teilnahme bewusst gewählt. \nAn der Veranstaltung teilnehmen: https://lecture.senfcall.de/mat-vhl-atj-7nv\nKonferenzraum: „Espresso“\nRaum-Code: 114266 \nEinwahl bei Senfcall \n\nÖffnen Sie die über den Link Senfcall im Browser : https://lecture.senfcall.de/mat-vhl-atj-7nv\nKlick auf den Button Datenschutz gelesen.\nWählen Sie den Raum „Espresso“ über die Eingabe vom Namen\nGeben Sie Ihren Einwahlcode   114266 ein.\nPrüfen Sie Mikrofon und Lautsprecher/Kopfhörer.\nKlicken Sie auf „Beitreten“ oder „Einwählen“.\nWarten Sie\, bis die Verbindung aufgebaut ist – Sie sind dann im Meeting.\nHinweis zum Schutz unseres Begegnungsraums.\nDamit unsere Treffen in Ruhe\, Vertrauen und Präsenz stattfinden können\, gibt es eine Bitte: Wer an der Veranstaltung teilnimmt\, erscheint mit eingeschalteter Kamera und funktionierendem Mikrofon. Das schafft Orientierung\, Verbundenheit und Sicherheit für alle\, die da sind.Teilnehmer*innen\, die ohne Bild oder Ton erscheinen\, werden aus dem Raum entfernt – nicht als Ausschluss\, sondern als Schutz des gemeinsamen Feldes. Danke für dein Verständnis und dein Mitwirken an einem Raum\, der getragen ist von Aufmerksamkeit und Respekt.\n\n\nAnmeldung: \nDu kannst dich auch gerne für die Veranstaltung anmelden. Dann erhältst du den Link zum Online-Raum per E-Mail. Bitte beachte\, dass eine Anmeldung nur bis Beginn der Veranstaltung möglich ist. \n \nWir von liebevoll.jetzt bedanken uns bei Matthias für dieses liebevolle Geschenk und sein ehrenamtliches Engagement. \n		\n					\n						\n					\n			\n						\n				\n									  \n*****Du hast diese Veranstaltung als Teilnehmer(in) besucht und möchtest ein Feedback geben? Nutze dafür gern den untenstehenden Fragebogen. Herzlichen Dank! 								\n				\n				\n				\n									\n					\n						\n									Zum Feedback-Fragebogen
URL:https://liebevoll.jetzt/veranstaltung/espresso-2-2-2-2-2-2-2-3-2-2-2-2-2-2-2/2026-04-22/
CATEGORIES:Austausch und Begegnung,Online Treffen,Online-Veranstaltung,Zuhören
ATTACH;FMTTYPE=image/jpeg:https://liebevoll.jetzt/wp-content/uploads/2024/10/Bilde_IMG_20200915_102553661_HDR-low-scaled-1.jpg
ORGANIZER;CN="Matthias Bauer":MAILTO:liebevolljetzt@mbauer-ing.de
END:VEVENT
BEGIN:VEVENT
DTSTART;TZID=Europe/Berlin:20260422T193000
DTEND;TZID=Europe/Berlin:20260422T203000
DTSTAMP:20260422T021148
CREATED:20240727T044156Z
LAST-MODIFIED:20260309T083741Z
UID:10004955-1776886200-1776889800@liebevoll.jetzt
SUMMARY:Einladung zu unserem liebevoll Treffpunkt mit Beatrice
DESCRIPTION:🌸 Herzlich willkommen zu unserem liebevoll Treffpunkt! 🌸 \nIch möchte dich von Herzen einladen\, Teil eines ganz besonderen Moments zu werden – eines kleinen Raums voller Wertschätzung\, Achtsamkeit und echter Verbindung. Hier begegnen wir uns mit offenen Herzen\, liebevollem Zuhören und echtem Interesse aneinander. Jeder Gedanke\, jedes Gefühl und jede Stimme darf Raum bekommen. \nOb du neue Impulse suchst\, etwas aus deinem Inneren teilen möchtest oder einfach nur einen wohltuenden Moment in Gemeinschaft genießen willst – du bist von Herzen willkommen. \nLass uns gemeinsam eine wertvolle Stunde gestalten\, in der wir miteinander sprechen\, einander inspirieren und uns getragen fühlen. \n✨ Da musst du einfach dabei sein – es wird schön. ✨ \nIch freue mich sehr auf dich und darauf\, diese besondere Zeit miteinander zu teilen. \nVon Herzen\,\nBeatrice \nMöchtest du dabei sein? Dann freue ich mich auf deine Anmeldung\, mit der du den Zoom-Link direkt per E-Mail bekommst. Bitte beachte\, dass nach Beginn der Veranstaltung keine Anmeldung mehr möglich ist. \n\nTeilnehmerstimmen: \n\nMir tun die Treffpunkte gut\, ich weiß\, da ist jemand für mich da.\nEs ist so schön\, dass man einmal in der Woche einfach so in den Treffpunkt gehen kann und immer jemand da ist\, um zu plaudern und zu philosophieren.\nEs ist so viel möglich bei den Treffen\, die jetzt dazu gehören\, ich möchte sie nicht mehr missen\, danke an die Organisatoren dieser wunderbaren Treffen.\nIch bin so dankbar\, dass im Treffpunkt jemand da ist\, der mir zuhört.\n\nWir von liebevoll.jetzt bedanken uns bei Beatrice für dieses liebevolle Geschenk und ihr ehrenamtliches Engagement. \n		\n					\n						\n					\n			\n						\n				\n									  \n*****Du hast diese Veranstaltung als Teilnehmer(in) besucht und möchtest ein Feedback geben? Nutze dafür gern den untenstehenden Fragebogen. Herzlichen Dank! 								\n				\n				\n				\n									\n					\n						\n									Zum Feedback-Fragebogen
URL:https://liebevoll.jetzt/veranstaltung/einladung-zu-unserem-liebevoll-treffpunkt-liebevoll-jetzt-mit-beatrice/2026-04-22/
CATEGORIES:Austausch und Begegnung,Lebensfreude,Online Treffen,Online-Veranstaltung
ATTACH;FMTTYPE=image/jpeg:https://liebevoll.jetzt/wp-content/uploads/2024/07/bild-e1759587123497.jpg
ORGANIZER;CN="Beatrice Durot":MAILTO:b.durot@sunrise.ch
END:VEVENT
BEGIN:VEVENT
DTSTART;TZID=Europe/Berlin:20260422T200000
DTEND;TZID=Europe/Berlin:20260422T213000
DTSTAMP:20260422T021148
CREATED:20260413T151607Z
LAST-MODIFIED:20260413T151607Z
UID:10005604-1776888000-1776893400@liebevoll.jetzt
SUMMARY:EINFACH zusammen sein
DESCRIPTION:Hinweis vorab: Dies ist ein aktiver Forschungsraum\, der von deiner Selbstverantwortung\, Selbstreflexion und Transformationsbereitschaft ausgeht. Das ist nicht immer gemütlich\, aber aufschlussreich und bereichernd.\n\nWenn Du Lust hast\, Dich mit anderen Menschen zu verbinden und gemeinsam das zusammen SEIN zu untersuchen über Sharings\, Experimente und Spiele in Partner:innengesprächen\, Kleingruppen sowie im großen Kreis\, Deine vielseitigen Facetten zu zeigen und andere in den ihren zu erleben; und wenn Du das Schöne herauskristallisieren möchtest\, dass wir Menschen als Rudeltier miteinander teilen können und dafür bereit bist unbekanntes Terrain zu betreten und Dich persönlich im besten Sinne herauszufordern\, dann bist Du herzlich eingeladen bei „EINFACH zusammen sein“ dabei zu sein. \nWir treffen uns auf Zoom:\nhttps://us06web.zoom.us/j/86371695596 \nDie Teilnahme ist kostenlos.\nFür kurzfristige Erinnerungen und Info über weitere Termine tritt gerne dem Telegram-Kanal „Semillas del viento“ bei: https://t.me/+nkXxEN9Nfzk1MjRi \nSei dabei\, wenn Du die Nuancen entdecken möchtest\, die kleine Unterschiede machen mit großer (Aus)Wirkung. Dafür bitte ich Dich\, möglichst Deine Konzepte und das bislang Gewohnte einmal außen vor zu lassen. Und Deine Bewertungen wie etwas sein müsste\, sollte\, darf oder wie etwas abzulaufen hat\, keinen Fokus zu schenken. Lasst uns sehen\, wo es uns hinträgt\, wenn wir gemeinsam Neuland betreten. Lasst uns sehen\, ob ZUSAMMEN SEIN dadurch EINFACH wird. \nBitte beachte und respektiere\, dass „EINFACH zusammen sein“ um die Einhaltung der folgende Rahmenbedingungen bittet:\n– Die Termine sind voneinander unabhängig\, nimm teil wann und wie es für Dich passt.\n– Bitte plane ein\, die vollen 90 Minuten dabei zu sein\, kein Einlass mehr nach Beginn.\n– Bitte sorge dafür\, dass Du ungestört bist und Deine volle Aufmerksamkeit den teilnehmenden Menschen widmen kannst\, die sich umgekehrt auch die Zeit nehmen\, um DIR ihre volle Aufmerksamkeit zu schenken.\n– Bitte beachte\, dass dies ein aktiver Mitmachraum ist. Wer nur beobachten möchte\, kann leider nicht Teil dieses Experimentierraums sein. \n– Wir arbeiten mit Breakouträumen\, daher sollte jede Person Zugang mit einem separaten Gerät haben\n– Beachte\, dass es sich um einen Raum von Toleranz und gegenseitigem Respekt handelt\, denn nur so ist gewährleistet\, dass wir zusammen einen offnen\, sicheren Raum erschaffen\, der Transparenz und Authentizität ermöglicht.\n– Bitte sei pünktlich und stelle Dich darauf ein\, mit Bild und Ton teilzunehmen. Ich erlaube mir aus Schutz derer\, die sich zeigen\, Menschen aus dem Zoom zu entfernen\, wenn sie anonym zu bleiben versuchen.\n– Bitte beachte\, dass jeder für sein eigenes Handeln und Tun und ebenso für sein Befinden in diesem Raum die volle Verantwortung trägt.\n– Lade gerne andere Menschen\, auch außerhalb von staging.liebevoll.jetzt/ ein\, ebenfalls dabei zu sein. \nWer noch mehr wissen möchte:\n___________________________\nMeine Beobachtung ist\,\ndass wir derzeit sehr herausgefordert sind im Zusammensein mit anderen Menschen. Die aktuelle Zeit und die Welt mit ihren Anforderungen an uns\, wirft uns oft in Situationen\, wo wir uns beweisen\, selbstoptimieren oder besser sein müssen\, bitte einfach funktionieren und möglichst alle Probleme lösen sollen. \nDas Zusammensein EINFACH zu gestalten ist oft nicht leicht.\nDamit einher geht\, dass Menschen hochgradig emotional gestresst und getriggert sind\, sich daher abgrenzen und wenig Offenheit und Kapazität übrig haben\, sich auf der Herzebene und in Empathie zu verbinden. Stattdessen stehen Leistung\, Pflichterfüllung\, Erfüllung der Ansprüche von Außen\, Überforderung\, Ängste und derlei mehr im Vordergrund.\nDa ist es mehr als nachvollziehbar\, dass wir uns unsere imaginäre Schutzmaske aufsetzen. Doch das kreiert Trennung und die Folge davon ist oftmals noch mehr Misskommunikation\, Kampf und Konkurrenzgehabe. \nIch biete klar geführte Räume an\, um zu erforschen\, wie wir Menschen trotz dieser Wirkmechanismen offener und herzlicher begegnen können.\nIch habe die Erfahrung gemacht\, dass es genauso schön und aufregend sein kann\, Menschen zu erleben\, die anders sind als ich\, wie in Verbindung mit Menschen zu sein\, von denen ich mich tief verstanden fühlen. Meine Erfahrung ist aber auch\, dass ich dafür eine bestimmte innere Haltung entwickeln musste und es auch nicht immer ganz leicht ist\, diese in allen Situationen und in allen Begegnungen auch aufrecht zu erhalten.\nWissen\, eine Entscheidung dafür und guter Wille allein reichen leider nicht aus.\nDarum möchte ich durch neue Möglichkeiten\, spielerische Übungen und Experimente ein Setting anbieten\, wo wir uns im geschützten Rahmen selbst besser kennenlernen können in unserem SEIN mit anderen selbst beobachten und ausprobieren können. Ich ermuntere\, die eigenen Mechanismen und Gewohnheiten zu bemerken\, zu hinterfragen\, etwas neues auszuprobieren und darüber Erfahrungen zu sammeln\, die auch Herausforderungen im Alltag einen Twist geben können.\nSich mitteilen und zuhören und erleben\, dass wir vieles gemeinsam haben. Erkennen\, wie viel uns doch auch in der Andersartigkeit verbindet. Gespiegelt bekommen\, wie charmant uns unsere Eigenarten machen.\nAnfangs hätte ich nicht vermutet\, dass es durchaus einiges braucht\, um einfach mal zusammen SEIN zu können. Darum möchte ich einladen\, den Fokus von Abgrenzung\, Separation und Exklusivität zu wechseln und uns etwas mehr dem Staunen im Nichtwissen\, Nichtverstehen hinzugeben und das Andere (oft Ergänzende) als wunderbare Eigenschaft unserer Menschheit zu feiern. \nErfahre mehr über Dorothea https://dorotheaeitel.art/ \nDas Interview mit Dorothea findest du hier auf unserem Youtube-Kanal \nWir von liebevoll.jetzt bedanken uns bei Dorothea für dieses liebevolle Geschenk und ihr ehrenamtliches Engagement. \n		\n					\n						\n					\n			\n						\n				\n									  \n*****Du hast diese Veranstaltung als Teilnehmer(in) besucht und möchtest ein Feedback geben? Nutze dafür gern den untenstehenden Fragebogen. Herzlichen Dank! 								\n				\n				\n				\n									\n					\n						\n									Zum Feedback-Fragebogen
URL:https://liebevoll.jetzt/veranstaltung/einfach-zusammen-sein-9/
ATTACH;FMTTYPE=image/jpeg:https://liebevoll.jetzt/wp-content/uploads/2022/11/LOGO_Semillas-del-viento-e1759420753909.jpg
ORGANIZER;CN="Dorothea Semillas del Viento":MAILTO:dorothea@creationdoors.com
END:VEVENT
BEGIN:VEVENT
DTSTART;TZID=Europe/Berlin:20260422T210000
DTEND;TZID=Europe/Berlin:20260422T214500
DTSTAMP:20260422T021148
CREATED:20250612T123839Z
LAST-MODIFIED:20260401T203321Z
UID:10004952-1776891600-1776894300@liebevoll.jetzt
SUMMARY:Deine Klanginsel am Abend
DESCRIPTION:✨ Meine Klangreisen – eine liebevolle Berührung für Herz und Seele ✨ \nStell dir vor\, du tauchst ein in sanfte Klänge\, die dich umhüllen\, beruhigen und tief berühren. Jeder Ton einer Klangschale ist wie eine kleine Botschaft an dein Herz: Du bist wertvoll. Du darfst dich spüren. Du darfst leicht sein. \nIn meinen Klangreisen entsteht ein Raum nur für dich – ein Moment des Ankommens\, Loslassens und inneren Aufatmens. Die Schwingungen öffnen Türen zu Ruhe\, Geborgenheit und Freude\, die schon lange in dir darauf warten\, wieder aufzuleuchten. \nFür ein noch intensiveres Erlebnis empfehle ich\, Kopfhörer zu nutzen – so kannst du die Klänge voll und ganz genießen\, als würden sie direkt bei dir im Raum erklingen. \nSpüre die Wärme\, die dich umgibt\, lass dich tragen von den Klängen und finde zu dir selbst zurück. Gönn dir diese Zeit für dein Herz und deine Seele – du verdienst es\, dich gut zu fühlen. \n💛 Komm vorbei\, lass dich berühren und entdecke die Magie der Klangreise. Dein Herz wird es dir danken. \nNada Brahma – Alles ist Klang. \nMöchtestdu dabei sein? Dann freue ich mich auf deine Anmeldung\, mit der du den Zoom-Link direkt per E-Mail bekommst. Bitte beachte\, dass nach Beginn der Veranstaltung keine Anmeldung mehr möglich ist. \n\n		\n					\n						\n					\n			\n						\n				\n									  \n*****Du hast diese Veranstaltung als Teilnehmer(in) besucht und möchtest ein Feedback geben? Nutze dafür gern den untenstehenden Fragebogen. Herzlichen Dank! 								\n				\n				\n				\n									\n					\n						\n									Zum Feedback-Fragebogen\n					\n					\n				\n								\n				\n					\n		\n					\n		\n				\n		\n  \nDas Interview mit Beatrice findest du hier bei uns auf Youtube. \n \n  \nTeilnehmer-Feedbacks: \n\nEin sehr gelungenes Klangerlebnis\, das mich völlig umschlossen und auf eine wunderschöne Reise meiner Seele in neue Gefilde begleitet hat. Sehr zu empfehlen\, ich werde weiter dabei sein! Vielen herzlichen Dank!!!\nIch freue mich über jede Klanginsel schon im Voraus. Die ruhige liebevolle Stimme von Beatrice trägt mich in die Phantasiereise\, die mich sehr ruhig und entspannt werden lässt. Beatrice lässt sich immer vielfältige neue Themen einfallen\, die in den nachfolgenden Tagen noch nachklingen dürfen. Ich freue mich sehr diese Veranstaltungen genießen zu dürfen.\nIch kann entspannen\, genießen\, träumen und fühle mich danach seelig-zufrieden-glücklich.\nMich haben als Kind auch die Kirchenglocken so berührt\, aber ich habe es wieder vergessen und dann kam die liebe Beatrice und hat mich und meine Seele mitgenommen und mir die Welt des Klanges gezeigt und mich damit tief berührt und mit dem Klang in mir und im Außen verbunden.\nDie Klangschalen von Beatrice haben mich verzaubert\, als ich vor ca. 1 Jahr völlig durch den Wind und zu spät in ihre Klangmeditation hineingeplatzt bin. Es war eine magische Reise ins  All. Und die Klänge und Beatrice haben mich gleichermaßen verzaubert.\nLiebe Beatrice\, es ist soooo schön Dir und Deinen Klängen zuzuhören. Herzlichen Dank für Dein Engagement.\n\n  \nWir von liebevoll.jetzt/ bedanken uns bei Beatrice für dieses liebevolle Geschenk und ihr ehrenamtliches Engagement.
URL:https://liebevoll.jetzt/veranstaltung/deine-klanginsel-am-abend/2026-04-22/
CATEGORIES:Achtsame Selbsterfahrung,Körper-Selbsterfahrung,Lebensfreude,Online Treffen,Online-Meditation,Online-Veranstaltung,Zuhören
ATTACH;FMTTYPE=image/png:https://liebevoll.jetzt/wp-content/uploads/2025/03/bild2-1024x518-1.png
ORGANIZER;CN="Beatrice Durot":MAILTO:b.durot@sunrise.ch
END:VEVENT
END:VCALENDAR