BEGIN:VCALENDAR
VERSION:2.0
PRODID:-//liebevoll.jetzt - ECPv6.15.17.1//NONSGML v1.0//EN
CALSCALE:GREGORIAN
METHOD:PUBLISH
X-WR-CALNAME:liebevoll.jetzt
X-ORIGINAL-URL:https://liebevoll.jetzt
X-WR-CALDESC:Veranstaltungen für liebevoll.jetzt
REFRESH-INTERVAL;VALUE=DURATION:PT1H
X-Robots-Tag:noindex
X-PUBLISHED-TTL:PT1H
BEGIN:VTIMEZONE
TZID:Europe/Berlin
BEGIN:DAYLIGHT
TZOFFSETFROM:+0100
TZOFFSETTO:+0200
TZNAME:CEST
DTSTART:20230326T010000
END:DAYLIGHT
BEGIN:STANDARD
TZOFFSETFROM:+0200
TZOFFSETTO:+0100
TZNAME:CET
DTSTART:20231029T010000
END:STANDARD
BEGIN:DAYLIGHT
TZOFFSETFROM:+0100
TZOFFSETTO:+0200
TZNAME:CEST
DTSTART:20240331T010000
END:DAYLIGHT
BEGIN:STANDARD
TZOFFSETFROM:+0200
TZOFFSETTO:+0100
TZNAME:CET
DTSTART:20241027T010000
END:STANDARD
BEGIN:DAYLIGHT
TZOFFSETFROM:+0100
TZOFFSETTO:+0200
TZNAME:CEST
DTSTART:20250330T010000
END:DAYLIGHT
BEGIN:STANDARD
TZOFFSETFROM:+0200
TZOFFSETTO:+0100
TZNAME:CET
DTSTART:20251026T010000
END:STANDARD
END:VTIMEZONE
BEGIN:VEVENT
DTSTART;TZID=Europe/Berlin:20240416T180000
DTEND;TZID=Europe/Berlin:20240416T183000
DTSTAMP:20260419T191058
CREATED:20231112T110556Z
LAST-MODIFIED:20251108T110751Z
UID:10000946-1713290400-1713292200@liebevoll.jetzt
SUMMARY:AMODINI Meditation
DESCRIPTION:Nach einer kleinen Einführung meditieren wir in Stille über 20 Minuten\, in Anlehnung an die Zen Meditation. \nAnschließend gibt es einen Austausch für die die mögen über das Erfahrene. \nDieser Termin läuft schon seit 1 Jahr in findet jeden Dienstag statt. \nZoom Link AMODINI Meditation mit Ruth: \nhttps://us04web.zoom.us/j/9399476394?pwd=VG1YbFUwd0gwRkJHY1pkb2xqNnVSZz09 \nMeeting-ID: 939 947 6394\nKenncode: 8uW915 \nWir von staging.liebevoll.jetzt/ bedanken uns bei Ruth für dieses liebevolle Geschenk und ihr ehrenamtliches Engagement.
URL:https://liebevoll.jetzt/veranstaltung/amodini-meditation-18-2-3/2024-04-16/
CATEGORIES:Achtsame Selbsterfahrung,Austausch und Begegnung,Online-Meditation,Online-Veranstaltung
ATTACH;FMTTYPE=image/png:https://liebevoll.jetzt/wp-content/uploads/2022/11/Amodini-Meditation.png
ORGANIZER;CN="Ruth Wernicke":MAILTO:info@horse-welfare.de
END:VEVENT
BEGIN:VEVENT
DTSTART;TZID=Europe/Berlin:20240324T103000
DTEND;TZID=Europe/Berlin:20240324T120000
DTSTAMP:20260419T191058
CREATED:20240315T153637Z
LAST-MODIFIED:20260218T153310Z
UID:10001002-1711276200-1711281600@liebevoll.jetzt
SUMMARY:Online-Café mit Beatrice
DESCRIPTION:Herzlich willkommen in unserem Online-Café! Schön\, dass DU hier bist! \n\n\nWir – Erika\, Kerstin\, Matthias und Beatrice – möchten gemeinsam mit DIR in einen inspirierenden Austausch und eine echte Begegnung treten. Dieser Raum ist geschaffen\, um sich zu zeigen\, ohne bewertet zu werden – ein Ort\, an dem echtes Zuhören\, stille Erkenntnisse und herzliche Lacher ihren Platz haben. \nWas uns verbindet\, ist die Sehnsucht nach einem liebevollen Umgang – mit uns selbst und im Miteinander. Hier nehmen wir uns bewusst Zeit\, um Fragen zu stellen\, die in unsere Innenwelt führen\, und um unser Miteinander auf eine tiefere Ebene zu bringen. \nWenn du Lust hast\, Gleichgesinnte kennenzulernen und dich in einem warmherzigen Austausch einzubringen\, bist du hier genau richtig.  Nach einer kurzen Begrüßung erfolgt die Einteilung in kleine Breakout-Gruppen mit 3 bis 5 Personen. Dort hast du die Gelegenheit\, dich mit einer von uns gestellten Frage intensiver auseinanderzusetzen. Nach etwa 20-30 Minuten werden die Gruppen neu gemischt\, sodass du die Chance hast\, weitere spannende Menschen kennenzulernen und dich erneut auszutauschen. \nLass dich auf das ein\, was in DIR mitschwingt – du musst nichts leisten\, nichts beweisen. Nur da sein. Und ehrlich mit dir selbst sein! \nUns ist wichtig\, dass niemand zu einem Objekt seiner eigenen Belehrungen oder Beratungen gemacht wird. Wir wünschen uns\, dass alle Teilnehmenden achtsam miteinander umgehen und aufeinander achten. 😊 \n\n\n\n\nIch freue mich auf DICH! \nBeatrice \nMöchtest du dabei sein? Dann freuen wir uns auf deine Anmeldung\, mit der du den Zoom-Link direkt per E-Mail bekommst. Bitte beachte\, dass nach Beginn der Veranstaltung keine Anmeldung mehr möglich ist. \n \nRückmeldungen der Teilnehmer: \n\nIch möchte mich mal wieder dafür bedanken\, dass wir/ich diese Möglichkeit des tiefen Austauschs haben. Wie meist war das Online-Cafe und auch der Mittwochs-Austausch mit Beatrice so sehr er- und aufbauend. Die Fragen/Themen\, mit denen wir eingeladen sind uns zu beschäftigen gehen\, wie auch heute\, sehr tief. Die Impulse\, welche von den Teilnehmern kommen\, unser gegenseitiges „Sehen“ schafft Raum für Verbundenheit. Alles darf sein\, nichts muß. Es entsteht immer wieder ein stückweit mehr gefühltes Vertrauen sich damit so zu zeigen was grad in einem ist. Ein von Herzen kommendes „DANKE“\, auch an Erika und Kerstin für diesen wertvollen Raum\, den Ihr uns schenkt und DANKE an alle Teilnehmer\, die diesen Raum liebevoll nutzen. Gitte\n\n\n\nWir von liebevoll.jetzt bedanken uns bei Beatrice für dieses liebevolle Geschenk und ihr ehrenamtliches Engagement. \n		\n					\n						\n					\n			\n						\n				\n									  \n*****Du hast diese Veranstaltung als Teilnehmer(in) besucht und möchtest ein Feedback geben? Nutze dafür gern den untenstehenden Fragebogen. Herzlichen Dank! 								\n				\n				\n				\n									\n					\n						\n									Zum Feedback-Fragebogen
URL:https://liebevoll.jetzt/veranstaltung/austausch-und-begegnung-im-online-cafe-mit-beatrice-10/2024-03-24/
LOCATION:Online
CATEGORIES:Achtsame Selbsterfahrung,Austausch und Begegnung,Lebensfreude,Online Treffen,Online-Café,Online-Veranstaltung
ATTACH;FMTTYPE=image/jpeg:https://liebevoll.jetzt/wp-content/uploads/2026/02/WhatsApp-Image-2026-02-18-at-14.58.53.jpeg
ORGANIZER;CN="Beatrice Durot":MAILTO:b.durot@sunrise.ch
END:VEVENT
END:VCALENDAR