BEGIN:VCALENDAR
VERSION:2.0
PRODID:-//liebevoll.jetzt - ECPv6.15.20//NONSGML v1.0//EN
CALSCALE:GREGORIAN
METHOD:PUBLISH
X-WR-CALNAME:liebevoll.jetzt
X-ORIGINAL-URL:https://liebevoll.jetzt
X-WR-CALDESC:Veranstaltungen für liebevoll.jetzt
REFRESH-INTERVAL;VALUE=DURATION:PT1H
X-Robots-Tag:noindex
X-PUBLISHED-TTL:PT1H
BEGIN:VTIMEZONE
TZID:Europe/Berlin
BEGIN:DAYLIGHT
TZOFFSETFROM:+0100
TZOFFSETTO:+0200
TZNAME:CEST
DTSTART:20250330T010000
END:DAYLIGHT
BEGIN:STANDARD
TZOFFSETFROM:+0200
TZOFFSETTO:+0100
TZNAME:CET
DTSTART:20251026T010000
END:STANDARD
BEGIN:DAYLIGHT
TZOFFSETFROM:+0100
TZOFFSETTO:+0200
TZNAME:CEST
DTSTART:20260329T010000
END:DAYLIGHT
BEGIN:STANDARD
TZOFFSETFROM:+0200
TZOFFSETTO:+0100
TZNAME:CET
DTSTART:20261025T010000
END:STANDARD
BEGIN:DAYLIGHT
TZOFFSETFROM:+0100
TZOFFSETTO:+0200
TZNAME:CEST
DTSTART:20270328T010000
END:DAYLIGHT
BEGIN:STANDARD
TZOFFSETFROM:+0200
TZOFFSETTO:+0100
TZNAME:CET
DTSTART:20271031T010000
END:STANDARD
END:VTIMEZONE
BEGIN:VEVENT
DTSTART;TZID=Europe/Berlin:20260520T190000
DTEND;TZID=Europe/Berlin:20260520T220000
DTSTAMP:20260425T060416
CREATED:20260130T135213Z
LAST-MODIFIED:20260308T102153Z
UID:10003643-1779303600-1779314400@liebevoll.jetzt
SUMMARY:Liebevoll.jetzt International Online-Treffen
DESCRIPTION:Seit einiger Zeit gibt es bei uns eine Gruppe für Menschen\, die im Ausland (außerhalb von Deutschland) leben. \nFür unsere Mitglieder\, die im Ausland leben\, ist diese Gruppe eine Möglichkeit für Vernetzung\, Austausch und Begegnung. Wir freuen uns auf alles\, was hier entstehen möchte. Wir teilen unsere Erfahrungen und aktuelle Themen\, welche uns bewegen in den Ländern wo wir uns befinden\, wie es uns dort geht und wie wir uns dort einbringen. \nWenn du im Ausland lebst und dich angesprochen fühlst\, so schau gerne in unsere Gruppe hinein. Den Link für das Online-Treffen findest du auch dort: Liebevoll International \nDiese Veranstaltung und Gruppe ist ausschließlich für Menschen\, die aus Deutschland ausgewandert sind und im Ausland leben. Solltest du in Deutschland\,  zuhause sein\, findest du bestimmt eine andere passende Veranstaltung für dich. Danke für dein Verständnis. \nWir sehen uns mit diesem Link:Beitreten Zoom Meeting \nBeitreten Zoom Meeting \nhttps://us02web.zoom.us/j/86294419710?pwd=NHlrcTJ3bFR5QmhzYVN3bUJpdkJZZz09 \nWir von liebevoll.jetzt bedanken uns bei Andrea\, Beate und Jessica für dieses liebevolle Geschenk und ihr ehrenamtliches Engagement. \nMeeting-ID: 862 9441 9710\nKenncode: 270424 \n		\n					\n						\n					\n			\n						\n				\n									  \n*****Du hast diese Veranstaltung als Teilnehmer(in) besucht und möchtest ein Feedback geben? Nutze dafür gern den untenstehenden Fragebogen. Herzlichen Dank! 								\n				\n				\n				\n									\n					\n						\n									Zum Feedback-Fragebogen
URL:https://liebevoll.jetzt/veranstaltung/liebevoll-jetzt-international-online-treffen-5-3-2-2-2/2026-05-20/
CATEGORIES:Austausch und Begegnung,Online-Veranstaltung
ATTACH;FMTTYPE=image/jpeg:https://liebevoll.jetzt/wp-content/uploads/2023/03/banner-gdde662c4e_1280.jpg
ORGANIZER;CN="Anda (Andrea) Lippert":MAILTO:hello@andaire.com
END:VEVENT
BEGIN:VEVENT
DTSTART;TZID=Europe/Berlin:20260531T103000
DTEND;TZID=Europe/Berlin:20260531T120000
DTSTAMP:20260425T060416
CREATED:20251124T192205Z
LAST-MODIFIED:20260218T191650Z
UID:10001829-1780223400-1780228800@liebevoll.jetzt
SUMMARY:Online-Café mit Kerstin
DESCRIPTION:Herzlich willkommen in unserem Online-Café! Schön\, dass DU hier bist! \n\n\nWir – Erika\, Kerstin und Beatrice – möchten gemeinsam mit DIR in einen inspirierenden Austausch und eine echte Begegnung treten. Dieser Raum ist geschaffen\, um sich zu zeigen\, ohne bewertet zu werden – ein Ort\, an dem echtes Zuhören\, stille Erkenntnisse und herzliche Lacher ihren Platz haben. \nWas uns verbindet\, ist die Sehnsucht nach einem liebevollen Umgang – mit uns selbst und im Miteinander. Hier nehmen wir uns bewusst Zeit\, um Fragen zu stellen\, die in unsere Innenwelt führen\, und um unser Miteinander auf eine tiefere Ebene zu bringen. \nWenn du Lust hast\, Gleichgesinnte kennenzulernen und dich in einem warmherzigen Austausch einzubringen\, bist du hier genau richtig.  Nach einer kurzen Begrüßung erfolgt die Einteilung in kleine Breakout-Gruppen mit 3 bis 5 Personen. Dort hast du die Gelegenheit\, dich mit einer von uns gestellten Frage intensiver auseinanderzusetzen. Nach etwa 20-30 Minuten werden die Gruppen neu gemischt\, sodass du die Chance hast\, weitere spannende Menschen kennenzulernen und dich erneut auszutauschen. \nLass dich auf das ein\, was in DIR mitschwingt – du musst nichts leisten\, nichts beweisen. Nur da sein. Und ehrlich mit dir selbst sein! \nUns ist wichtig\, dass niemand zu einem Objekt seiner eigenen Belehrungen oder Beratungen gemacht wird. Wir wünschen uns\, dass alle Teilnehmenden achtsam miteinander umgehen und aufeinander achten. 😊 \n\n\n\n\nIch freue mich sehr auf DICH! \nDeine Kerstin \nMöchtest du dabei sein? Dann freuen wir uns auf deine Anmeldung\, mit der du den Zoom-Link direkt per E-Mail bekommst. Bitte beachte\, dass nach Beginn der Veranstaltung keine Anmeldung mehr möglich ist. \n \n\n\n  \nWir von liebevoll.jetzt bedanken uns bei Kerstin für dieses liebevolle Geschenk und ihr ehrenamtliches Engagement. \n		\n					\n						\n					\n			\n						\n				\n									  \n*****Du hast diese Veranstaltung als Teilnehmer(in) besucht und möchtest ein Feedback geben? Nutze dafür gern den untenstehenden Fragebogen. Herzlichen Dank! 								\n				\n				\n				\n									\n					\n						\n									Zum Feedback-Fragebogen
URL:https://liebevoll.jetzt/veranstaltung/online-cafe-mit-kerstin/2026-05-31/
LOCATION:Online
CATEGORIES:Austausch und Begegnung,Online Treffen,Online-Café,Online-Veranstaltung
ATTACH;FMTTYPE=image/jpeg:https://liebevoll.jetzt/wp-content/uploads/2026/02/WhatsApp-Image-2026-02-18-at-14.58.53.jpeg
ORGANIZER;CN="Kerstin Morettoni-Anders":MAILTO:begleiter@bewusstseinsentfaltung.art
END:VEVENT
BEGIN:VEVENT
DTSTART;TZID=Europe/Berlin:20260601T193000
DTEND;TZID=Europe/Berlin:20260601T203000
DTSTAMP:20260425T060416
CREATED:20260410T204115Z
LAST-MODIFIED:20260415T192721Z
UID:10005600-1780342200-1780345800@liebevoll.jetzt
SUMMARY:Sofalesung: Buchpremiere "Komm heim\, wenn es dunkel wird"
DESCRIPTION:Buchpremiere!!! Wir feiern das Erscheinen des lang erwarteten Buchs „Komm heim\, wenn es dunkel wird“. Alle Autoren des Sammelbandes werden kurz vorgestellt oder stellen sich selber vor\, und es wird eine kleine Lese-Runde geben. \nLiebe Freunde der Literatur und des schönen Wortes. Es ist Zeit\, sich auf unserem gemütlichen Sofa zu versammeln und gemeinsam in die Welt der Poesie\, der Geschichten und Gedichte einzutauchen. Unsere Türen stehen allen offen\, die die Freude an der Literatur und am Zuhören teilen. Lasst uns gemeinsam in die Magie der Worte eintauchen und uns von den Geschichten verzaubern. Ein Abend voller Inspiration\, Kreativität und liebevoller Begegnungen. Wir freuen uns darauf\, diesen besonderen Abend mit euch zu verbringen und gemeinsam die Schönheit der Literatur zu feiern. \nFür unsere Sofalesungen suche ich auch immer wieder interessierte Menschen\, die gerne aus ihren Lieblingsbüchern vorlesen. Menschen\, die selbst Bücher geschrieben haben und gerne ihr Buch vorstellen möchten.  Hast du Lust und Zeit uns einen Abend mit einer Lesung zu schenken? Bei Interesse würde ich mich über eine Rückmeldung freuen. \nGerne über meine Mailadresse b.durot@sunrise.ch \nIch freue mich auf euch \nBeatrice \nMöchtest du dabei sein? Dann freue ich mich auf deine Anmeldung\, mit der du den Zoom-Link direkt per E-Mail bekommst. Bitte beachte\, dass nach Beginn der Veranstaltung keine Anmeldung mehr möglich ist. \n\n		\n					\n						\n					\n			\n						\n				\n									  \n*****Du hast diese Veranstaltung als Teilnehmer(in) besucht und möchtest ein Feedback geben? Nutze dafür gern den untenstehenden Fragebogen. Herzlichen Dank! 								\n				\n				\n				\n									\n					\n						\n									Zum Feedback-Fragebogen\n					\n					\n				\n								\n				\n					\n		\n					\n		\n				\n		\nRückmeldungen der Teilnehmer: \n\nIch lasse mich gerne von den Geschichten der Sofalesung verzaubern.\nDanke für die wertvollen Sofalesungen\, die immer wieder anders sind.\nEinfach zuhören und genießen. Der Abend bei der Sofalesung war einfach wundervoll. Vielen Dank für diese Möglichkeit.\n\nWir von liebevoll.jetzt bedanken uns bei Beatrice für dieses liebevolle Geschenk und ihr ehrenamtliches Engagement. \n 
URL:https://liebevoll.jetzt/veranstaltung/sofalesung-buchpremiere-komm-heim-wenn-es-dunkel-wird/
LOCATION:Online
CATEGORIES:Austausch und Begegnung,Information,Lebensfreude,Online Treffen,Online-Veranstaltung,Zuhören
ATTACH;FMTTYPE=image/jpeg:https://liebevoll.jetzt/wp-content/uploads/2025/01/20250116_104412-scaled-1.jpg
ORGANIZER;CN="Beatrice Durot":MAILTO:b.durot@sunrise.ch
END:VEVENT
BEGIN:VEVENT
DTSTART;TZID=Europe/Berlin:20260614T103000
DTEND;TZID=Europe/Berlin:20260614T120000
DTSTAMP:20260425T060416
CREATED:20250329T120846Z
LAST-MODIFIED:20260213T103107Z
UID:10003121-1781433000-1781438400@liebevoll.jetzt
SUMMARY:Online-Café mit Erika
DESCRIPTION:Herzlich willkommen in unserem Online-Café! Schön\, dass DU hier bist! \nWir – Beatrice\,  Kerstin\, Matthias und Erika möchten gemeinsam mit DIR in einen inspirierenden Austausch und eine echte Begegnung treten. Dieser Raum ist geschaffen\, um sich zu zeigen\, ohne bewertet zu werden – ein Ort\, an dem echtes Zuhören\, stille Erkenntnisse und herzliche Lacher ihren Platz haben. \nWas uns verbindet\, ist die Sehnsucht nach einem liebevollen Umgang – mit uns selbst und im Miteinander. Hier nehmen wir uns bewusst Zeit\, um Fragen zu stellen\, die in unsere Innenwelt führen\, und um unser Miteinander auf eine tiefere Ebene zu bringen. \nWenn du Lust hast\, Gleichgesinnte kennenzulernen und dich in einem warmherzigen Austausch einzubringen\, bist du hier genau richtig. Kurz vor Beginn kannst du ganz bequem über den Zoom-Link in den Raum eintreten. Nach einer kurzen Begrüßung erfolgt die Einteilung in kleine Breakout-Gruppen mit 3 bis 5 Personen. Dort hast du die Gelegenheit\, dich mit einer von uns gestellten Frage intensiver auseinanderzusetzen. Nach etwa 20-30 Minuten werden die Gruppen neu gemischt\, sodass du die Chance hast\, weitere spannende Menschen kennenzulernen und dich erneut auszutauschen. \nLass dich auf das ein\, was in DIR mitschwingt – du musst nichts leisten\, nichts beweisen. Nur da sein. Und ehrlich mit dir selbst sein! \nUns ist wichtig\, dass niemand zu einem Objekt seiner eigenen Belehrungen oder Beratungen gemacht wird. Wir hoffen\, dass alle Teilnehmenden achtsam miteinander umgehen und aufeinander achten. 😊 \n\n\n\n\nIch freue mich auf DICH! \nErika \nMöchtest du dabei sein? Dann freuen wir uns auf deine Anmeldung\, mit der du den Zoom-Link direkt per E-Mail bekommst. Bitte beachte\, dass nach Beginn der Veranstaltung keine Anmeldung mehr möglich ist. \n\n\n\nWir von liebevoll.jetzt bedanken uns bei Erika für dieses liebevolle Geschenk und ihr ehrenamtliches Engagement. \n		\n					\n						\n					\n			\n						\n				\n									  \n*****Du hast diese Veranstaltung als Teilnehmer(in) besucht und möchtest ein Feedback geben? Nutze dafür gern den untenstehenden Fragebogen. Herzlichen Dank! 								\n				\n				\n				\n									\n					\n						\n									Zum Feedback-Fragebogen
URL:https://liebevoll.jetzt/veranstaltung/austausch-und-begegnung-im-online-cafe-mit-erika-10/2026-06-14/
LOCATION:Online
CATEGORIES:Austausch und Begegnung,Online Treffen,Online-Café,Online-Veranstaltung
ATTACH;FMTTYPE=image/jpeg:https://liebevoll.jetzt/wp-content/uploads/2025/03/cup-1836816_1280.jpg
END:VEVENT
BEGIN:VEVENT
DTSTART;TZID=Europe/Berlin:20260717T183000
DTEND;TZID=Europe/Berlin:20260717T203000
DTSTAMP:20260425T060416
CREATED:20240708T051415Z
LAST-MODIFIED:20260112T085244Z
UID:10001532-1784313000-1784320200@liebevoll.jetzt
SUMMARY:Gemeinsam Kartenziehen – " Klang – Spiel – Austausch – Magie "
DESCRIPTION:Liebst Du Klänge\, Experimente\, gute Gespräche\, Selbsterforschung\, Kreismagie und Kartenspiele? Dann ist diese besondere Veranstaltungsserie vielleicht genau das Richtige für Dich: \nVerbinde Dich mit Deiner inneren Weisheit beim “ gemeinsam Kartenziehen “ mit Diana und Beatrice. \nBeatrice ist begeisterte Klangmassagepraktikerin und offen für all das\, was mit Klang noch so möglich sein kann. Sie ist bereits mit ihrer „Klanginsel“\, dem „Vollmondklangheilkreis“\, „Sofalesung“ und auch mit Ulla „Märchen mit Klang“ als Veranstalterin hier bei staging.liebevoll.jetzt/ dabei. \nIch bin Genesungsbegleiterin\, Art Brut- und Lebenskünstlerin und seit fast einem Jahrzehnt in Frauenkreisen unterwegs. \nAus dieser Kombination heraus ist ein Orakelkarten Set entstanden: die Texte und Bilder des Orakels habe ich selbst geschrieben und gemalt. 🙂 \nGemeinsam co-kreieren Beatrice und ich \nam frühen Abend bei unserer online Veranstaltung “ Klang – Spiel – Austausch – Magie “ von 18.30 – 20.30 Uhr.  \nIch freue mich schon sehr auf die kraftvolle Kombination unserer beider Herzensthemen. Beatrice begleitet uns beim „online Kartenziehen“ mit ihren Klängen. So finden wir viel leichter zu uns und Wege zu unserer inneren Wahrheit und Weisheit. Die Botschaften des Orakels\, die sich auf mehreren Ebenen lesen lassen\, werden sich so in einem Raum voller Klänge und Achtsamkeit entfalten und unsere innere Weisheit berühren. \nIhr Lieben\,wir freuen uns riesig über euer Interesse am Kartenziehen ✨Bitte beachtet\, dass sich für diese Veranstaltung nur 5 Personen anmelden können.Wenn ihr dabei sein möchtet\, meldet euch daher so schnell wie möglich an\, um euch einen Platz zu sichern. \nBitte melde Dich via E-Mail über frauen.visionen.projekte@gmail.com bei mir\, Diana\, an\, wenn du teilnehmen möchtest\,  \nWir freuen uns sehr auf euch und auf eine besondere gemeinsame Zeit 💫 \nAlles Liebe\, Diana und Beatrice \n  \n \n		\n					\n						\n					\n			\n						\n				\n									  \n*****Du hast diese Veranstaltung als Teilnehmer(in) besucht und möchtest ein Feedback geben? Nutze dafür gern den untenstehenden Fragebogen. Herzlichen Dank! 								\n				\n				\n				\n									\n					\n						\n									Zum Feedback-Fragebogen\n					\n					\n				\n								\n				\n					\n		\n					\n		\n				\n		\nRückmeldungen der Teilnehmer: \nLiebe Diana vielen Dank für deine tollen Karten das sind so schöne Bilder so viel zu entdecken\, so viel was sich mit meinen inneren Bildern deckt und verbindet deine Texte dazu lassen mich so viel fühlen und inspirieren mich zu vielen Gedanken deine angenehme Stimme so wunderbar und der Klang einfach nur wunderbar. Deine Karten berühren so sehr mein Herz. Manuela                                                                    \nVielen lieben Dank an alle\, für den wunderschönen und bereichernden Austausch. Sabine \nJa es war ein wundervoller Abend danke Diana für die tollen Karten und die liebevolle Begleitung. Danke Beatrice für die Klänge und danke an alle für eure offenen Herzen und eure Liebe das hat mir das Gefühl des getragen seins gegeben Danke. Manuela \nLiebe Diana\, danke herzlich für den berührenden Abend und die Bilder zu den Karten. Gute Zeit bis zum Wiedersehen. Silke \nLiebe Diana\, ich bin dankbar um diesen Abend\, ich war am Schluss grottenmüde\, da der Tag so anstrengend war\, und jede Karte hat dann Neues für mich aufgeworfen. Deine Arbeit ist so wertvoll\, die ganze Gruppe hat gut getan. Lieben Dank. Friderike \n  \n  \n 
URL:https://liebevoll.jetzt/veranstaltung/klang-spiel-austausch-magie/2026-07-17/
CATEGORIES:Achtsame Selbsterfahrung,Austausch und Begegnung,Lebensfreude,Online Treffen,Online-Veranstaltung
ATTACH;FMTTYPE=image/jpeg:https://liebevoll.jetzt/wp-content/uploads/2024/05/update-Liebevoll-Jetzt-Veranstaltungsbild.jpg
ORGANIZER;CN="Beatrice Durot":MAILTO:b.durot@sunrise.ch
END:VEVENT
BEGIN:VEVENT
DTSTART;TZID=Europe/Berlin:20260919T183000
DTEND;TZID=Europe/Berlin:20260919T203000
DTSTAMP:20260425T060416
CREATED:20240924T163011Z
LAST-MODIFIED:20260225T100525Z
UID:10001513-1789842600-1789849800@liebevoll.jetzt
SUMMARY:Gemeinsam die vier Sonnenfeste feiern
DESCRIPTION:„Ein Leben ohne Feste ist wie eine lange Wanderung ohne Rast“ \nWer schon einmal an einem Jahreskreisfest teilgenommen hat\, weiß um den Zauber und die Kraft eines solchen Festes. Es ist  die Verbundenheit mit Mutter Erde in all ihren Lebensphasen\, eine gewisse Vertrautheit und Verbundenheit mit der Natur und dem Ursprünglichen. Das Wissen\, dass alles zusammengehört\, wie Sonne und Mond. Wir feiern im Einklang miteinander Anfang und Ende\, das Geschehene und das noch Kommende auf gleicher Ebene. Vielleicht hast du Lust bekommen\, mit uns zu feiern. \n💛 \n„Such dir gern einen Gegenstand aus der Natur und lege ihn zusammen mit Papier und Schreibzeug bereit.“ \nWir freuen uns sehr darauf\, mit euch zu feiern und eine unvergessliche Zeit  zu verbringen. \nFernande und Beatrice \nMöchtest du dabei sein? Dann freuen wir uns auf deine Anmeldung\, mit der du den Zoom-Link direkt per E-Mail bekommst. Bitte beachte\, dass nach Beginn der Veranstaltung keine Anmeldung mehr möglich ist. \n\n		\n					\n						\n					\n			\n						\n				\n									  \n*****Du hast diese Veranstaltung als Teilnehmer(in) besucht und möchtest ein Feedback geben? Nutze dafür gern den untenstehenden Fragebogen. Herzlichen Dank! 								\n				\n				\n				\n									\n					\n						\n									Zum Feedback-Fragebogen
URL:https://liebevoll.jetzt/veranstaltung/gemeinsam-die-vier-sonnenfeste-feiern/2026-09-19/
CATEGORIES:Achtsame Selbsterfahrung,Austausch und Begegnung,Online Treffen,Online-Veranstaltung
ATTACH;FMTTYPE=image/jpeg:https://liebevoll.jetzt/wp-content/uploads/2024/09/Screenshot_20251101_122922_Google-scaled.jpg
ORGANIZER;CN="Beatrice Durot":MAILTO:b.durot@sunrise.ch
END:VEVENT
END:VCALENDAR