BEGIN:VCALENDAR
VERSION:2.0
PRODID:-//liebevoll.jetzt - ECPv6.15.17.1//NONSGML v1.0//EN
CALSCALE:GREGORIAN
METHOD:PUBLISH
X-WR-CALNAME:liebevoll.jetzt
X-ORIGINAL-URL:https://liebevoll.jetzt
X-WR-CALDESC:Veranstaltungen für liebevoll.jetzt
REFRESH-INTERVAL;VALUE=DURATION:PT1H
X-Robots-Tag:noindex
X-PUBLISHED-TTL:PT1H
BEGIN:VTIMEZONE
TZID:Europe/Berlin
BEGIN:DAYLIGHT
TZOFFSETFROM:+0100
TZOFFSETTO:+0200
TZNAME:CEST
DTSTART:20230326T010000
END:DAYLIGHT
BEGIN:STANDARD
TZOFFSETFROM:+0200
TZOFFSETTO:+0100
TZNAME:CET
DTSTART:20231029T010000
END:STANDARD
BEGIN:DAYLIGHT
TZOFFSETFROM:+0100
TZOFFSETTO:+0200
TZNAME:CEST
DTSTART:20240331T010000
END:DAYLIGHT
BEGIN:STANDARD
TZOFFSETFROM:+0200
TZOFFSETTO:+0100
TZNAME:CET
DTSTART:20241027T010000
END:STANDARD
BEGIN:DAYLIGHT
TZOFFSETFROM:+0100
TZOFFSETTO:+0200
TZNAME:CEST
DTSTART:20250330T010000
END:DAYLIGHT
BEGIN:STANDARD
TZOFFSETFROM:+0200
TZOFFSETTO:+0100
TZNAME:CET
DTSTART:20251026T010000
END:STANDARD
BEGIN:DAYLIGHT
TZOFFSETFROM:+0100
TZOFFSETTO:+0200
TZNAME:CEST
DTSTART:20260329T010000
END:DAYLIGHT
BEGIN:STANDARD
TZOFFSETFROM:+0200
TZOFFSETTO:+0100
TZNAME:CET
DTSTART:20261025T010000
END:STANDARD
END:VTIMEZONE
BEGIN:VEVENT
DTSTART;TZID=Europe/Berlin:20240922T140000
DTEND;TZID=Europe/Berlin:20251031T160000
DTSTAMP:20260422T090443
CREATED:20240920T195830Z
LAST-MODIFIED:20260101T214920Z
UID:10001515-1727013600-1761926400@liebevoll.jetzt
SUMMARY:Gemeinsam die vier Mondfeste feiern
DESCRIPTION:„Ein Leben ohne Feste ist wie eine lange Wanderung ohne Rast“ \nWer schon einmal an einem Jahreskreisfest teilgenommen hat\, weiß um den Zauber und die Kraft eines solchen Festes. Es ist  die Verbundenheit mit Mutter Erde in all ihren Lebensphasen\, eine gewisse Vertrautheit und Verbundenheit mit der Natur und dem Ursprünglichen. Das Wissen\, dass alles zusammengehört\, wie Sonne und Mond. Wir feiern im Einklang miteinander Anfang und Ende\, das Geschehene und das noch Kommende auf gleicher Ebene. Vielleicht hast du Lust bekommen\, mit uns zu feiern. \n💛 \n„Such dir gern einen Gegenstand aus der Natur und lege ihn zusammen mit Papier und Schreibzeug bereit.“ \nWir freuen uns auf dich \nFernande und Beatrice \nMöchtest du dabei sein? Dann freuen wir uns auf deine Anmeldung\, mit der du den Zoom-Link direkt per E-Mail bekommst. Bitte beachte\, dass nach Beginn der Veranstaltung keine Anmeldung mehr möglich ist. \n\n		\n					\n						\n					\n			\n						\n				\n									  \n*****Du hast diese Veranstaltung als Teilnehmer(in) besucht und möchtest ein Feedback geben? Nutze dafür gern den untenstehenden Fragebogen. Herzlichen Dank! 								\n				\n				\n				\n									\n					\n						\n									Zum Feedback-Fragebogen
URL:https://liebevoll.jetzt/veranstaltung/herbst-tag-und-nachtgleiche-kehr-zurueck-zu-dir-selbst-das-jahreskreisfest-mabon/2024-09-22/
CATEGORIES:Achtsame Selbsterfahrung,Austausch und Begegnung,Online Treffen,Online-Veranstaltung
ATTACH;FMTTYPE=image/jpeg:https://liebevoll.jetzt/wp-content/uploads/2024/09/Screenshot_20251101_122911_Google.jpg
ORGANIZER;CN="Beatrice Durot":MAILTO:b.durot@sunrise.ch
END:VEVENT
BEGIN:VEVENT
DTSTART;TZID=Europe/Berlin:20240924T080000
DTEND;TZID=Europe/Berlin:20241219T170000
DTSTAMP:20260422T090443
CREATED:20240924T163011Z
LAST-MODIFIED:20260225T100525Z
UID:10001508-1727164800-1734627600@liebevoll.jetzt
SUMMARY:Gemeinsam die vier Sonnenfeste feiern
DESCRIPTION:„Ein Leben ohne Feste ist wie eine lange Wanderung ohne Rast“ \nWer schon einmal an einem Jahreskreisfest teilgenommen hat\, weiß um den Zauber und die Kraft eines solchen Festes. Es ist  die Verbundenheit mit Mutter Erde in all ihren Lebensphasen\, eine gewisse Vertrautheit und Verbundenheit mit der Natur und dem Ursprünglichen. Das Wissen\, dass alles zusammengehört\, wie Sonne und Mond. Wir feiern im Einklang miteinander Anfang und Ende\, das Geschehene und das noch Kommende auf gleicher Ebene. Vielleicht hast du Lust bekommen\, mit uns zu feiern. \n💛 \n„Such dir gern einen Gegenstand aus der Natur und lege ihn zusammen mit Papier und Schreibzeug bereit.“ \nWir freuen uns sehr darauf\, mit euch zu feiern und eine unvergessliche Zeit  zu verbringen. \nFernande und Beatrice \nMöchtest du dabei sein? Dann freuen wir uns auf deine Anmeldung\, mit der du den Zoom-Link direkt per E-Mail bekommst. Bitte beachte\, dass nach Beginn der Veranstaltung keine Anmeldung mehr möglich ist. \n\n		\n					\n						\n					\n			\n						\n				\n									  \n*****Du hast diese Veranstaltung als Teilnehmer(in) besucht und möchtest ein Feedback geben? Nutze dafür gern den untenstehenden Fragebogen. Herzlichen Dank! 								\n				\n				\n				\n									\n					\n						\n									Zum Feedback-Fragebogen
URL:https://liebevoll.jetzt/veranstaltung/gemeinsam-die-vier-sonnenfeste-feiern/2024-09-24/
CATEGORIES:Achtsame Selbsterfahrung,Austausch und Begegnung,Online Treffen,Online-Veranstaltung
ATTACH;FMTTYPE=image/jpeg:https://liebevoll.jetzt/wp-content/uploads/2024/09/Screenshot_20251101_122922_Google-scaled.jpg
ORGANIZER;CN="Beatrice Durot":MAILTO:b.durot@sunrise.ch
END:VEVENT
BEGIN:VEVENT
DTSTART;TZID=Europe/Berlin:20241105T180000
DTEND;TZID=Europe/Berlin:20241105T183000
DTSTAMP:20260422T090443
CREATED:20231112T110556Z
LAST-MODIFIED:20251108T110751Z
UID:10000972-1730829600-1730831400@liebevoll.jetzt
SUMMARY:AMODINI Meditation
DESCRIPTION:Nach einer kleinen Einführung meditieren wir in Stille über 20 Minuten\, in Anlehnung an die Zen Meditation. \nAnschließend gibt es einen Austausch für die die mögen über das Erfahrene. \nDieser Termin läuft schon seit 1 Jahr in findet jeden Dienstag statt. \nZoom Link AMODINI Meditation mit Ruth: \nhttps://us04web.zoom.us/j/9399476394?pwd=VG1YbFUwd0gwRkJHY1pkb2xqNnVSZz09 \nMeeting-ID: 939 947 6394\nKenncode: 8uW915 \nWir von staging.liebevoll.jetzt/ bedanken uns bei Ruth für dieses liebevolle Geschenk und ihr ehrenamtliches Engagement.
URL:https://liebevoll.jetzt/veranstaltung/amodini-meditation-18-2-3/2024-11-05/
CATEGORIES:Achtsame Selbsterfahrung,Austausch und Begegnung,Online-Meditation,Online-Veranstaltung
ATTACH;FMTTYPE=image/png:https://liebevoll.jetzt/wp-content/uploads/2022/11/Amodini-Meditation.png
ORGANIZER;CN="Ruth Wernicke":MAILTO:info@horse-welfare.de
END:VEVENT
BEGIN:VEVENT
DTSTART;TZID=Europe/Berlin:20241112T180000
DTEND;TZID=Europe/Berlin:20241112T183000
DTSTAMP:20260422T090443
CREATED:20231112T110556Z
LAST-MODIFIED:20251108T110751Z
UID:10000973-1731434400-1731436200@liebevoll.jetzt
SUMMARY:AMODINI Meditation
DESCRIPTION:Nach einer kleinen Einführung meditieren wir in Stille über 20 Minuten\, in Anlehnung an die Zen Meditation. \nAnschließend gibt es einen Austausch für die die mögen über das Erfahrene. \nDieser Termin läuft schon seit 1 Jahr in findet jeden Dienstag statt. \nZoom Link AMODINI Meditation mit Ruth: \nhttps://us04web.zoom.us/j/9399476394?pwd=VG1YbFUwd0gwRkJHY1pkb2xqNnVSZz09 \nMeeting-ID: 939 947 6394\nKenncode: 8uW915 \nWir von staging.liebevoll.jetzt/ bedanken uns bei Ruth für dieses liebevolle Geschenk und ihr ehrenamtliches Engagement.
URL:https://liebevoll.jetzt/veranstaltung/amodini-meditation-18-2-3/2024-11-12/
CATEGORIES:Achtsame Selbsterfahrung,Austausch und Begegnung,Online-Meditation,Online-Veranstaltung
ATTACH;FMTTYPE=image/png:https://liebevoll.jetzt/wp-content/uploads/2022/11/Amodini-Meditation.png
ORGANIZER;CN="Ruth Wernicke":MAILTO:info@horse-welfare.de
END:VEVENT
BEGIN:VEVENT
DTSTART;TZID=Europe/Berlin:20241119T180000
DTEND;TZID=Europe/Berlin:20241119T183000
DTSTAMP:20260422T090443
CREATED:20231112T110556Z
LAST-MODIFIED:20251108T110751Z
UID:10000974-1732039200-1732041000@liebevoll.jetzt
SUMMARY:AMODINI Meditation
DESCRIPTION:Nach einer kleinen Einführung meditieren wir in Stille über 20 Minuten\, in Anlehnung an die Zen Meditation. \nAnschließend gibt es einen Austausch für die die mögen über das Erfahrene. \nDieser Termin läuft schon seit 1 Jahr in findet jeden Dienstag statt. \nZoom Link AMODINI Meditation mit Ruth: \nhttps://us04web.zoom.us/j/9399476394?pwd=VG1YbFUwd0gwRkJHY1pkb2xqNnVSZz09 \nMeeting-ID: 939 947 6394\nKenncode: 8uW915 \nWir von staging.liebevoll.jetzt/ bedanken uns bei Ruth für dieses liebevolle Geschenk und ihr ehrenamtliches Engagement.
URL:https://liebevoll.jetzt/veranstaltung/amodini-meditation-18-2-3/2024-11-19/
CATEGORIES:Achtsame Selbsterfahrung,Austausch und Begegnung,Online-Meditation,Online-Veranstaltung
ATTACH;FMTTYPE=image/png:https://liebevoll.jetzt/wp-content/uploads/2022/11/Amodini-Meditation.png
ORGANIZER;CN="Ruth Wernicke":MAILTO:info@horse-welfare.de
END:VEVENT
BEGIN:VEVENT
DTSTART;TZID=Europe/Berlin:20241126T180000
DTEND;TZID=Europe/Berlin:20241126T183000
DTSTAMP:20260422T090443
CREATED:20231112T110556Z
LAST-MODIFIED:20251108T110751Z
UID:10000975-1732644000-1732645800@liebevoll.jetzt
SUMMARY:AMODINI Meditation
DESCRIPTION:Nach einer kleinen Einführung meditieren wir in Stille über 20 Minuten\, in Anlehnung an die Zen Meditation. \nAnschließend gibt es einen Austausch für die die mögen über das Erfahrene. \nDieser Termin läuft schon seit 1 Jahr in findet jeden Dienstag statt. \nZoom Link AMODINI Meditation mit Ruth: \nhttps://us04web.zoom.us/j/9399476394?pwd=VG1YbFUwd0gwRkJHY1pkb2xqNnVSZz09 \nMeeting-ID: 939 947 6394\nKenncode: 8uW915 \nWir von staging.liebevoll.jetzt/ bedanken uns bei Ruth für dieses liebevolle Geschenk und ihr ehrenamtliches Engagement.
URL:https://liebevoll.jetzt/veranstaltung/amodini-meditation-18-2-3/2024-11-26/
CATEGORIES:Achtsame Selbsterfahrung,Austausch und Begegnung,Online-Meditation,Online-Veranstaltung
ATTACH;FMTTYPE=image/png:https://liebevoll.jetzt/wp-content/uploads/2022/11/Amodini-Meditation.png
ORGANIZER;CN="Ruth Wernicke":MAILTO:info@horse-welfare.de
END:VEVENT
END:VCALENDAR